BEGIN:VCALENDAR
VERSION:2.0
PRODID:-//dancetribe.be - ECPv6.15.20//NONSGML v1.0//EN
CALSCALE:GREGORIAN
METHOD:PUBLISH
X-ORIGINAL-URL:https://www.dancetribe.be
X-WR-CALDESC:Évènements pour dancetribe.be
REFRESH-INTERVAL;VALUE=DURATION:PT1H
X-Robots-Tag:noindex
X-PUBLISHED-TTL:PT1H
BEGIN:VTIMEZONE
TZID:Europe/Paris
BEGIN:DAYLIGHT
TZOFFSETFROM:+0100
TZOFFSETTO:+0200
TZNAME:CEST
DTSTART:20210328T010000
END:DAYLIGHT
BEGIN:STANDARD
TZOFFSETFROM:+0200
TZOFFSETTO:+0100
TZNAME:CET
DTSTART:20211031T010000
END:STANDARD
BEGIN:DAYLIGHT
TZOFFSETFROM:+0100
TZOFFSETTO:+0200
TZNAME:CEST
DTSTART:20220327T010000
END:DAYLIGHT
BEGIN:STANDARD
TZOFFSETFROM:+0200
TZOFFSETTO:+0100
TZNAME:CET
DTSTART:20221030T010000
END:STANDARD
BEGIN:DAYLIGHT
TZOFFSETFROM:+0100
TZOFFSETTO:+0200
TZNAME:CEST
DTSTART:20230326T010000
END:DAYLIGHT
BEGIN:STANDARD
TZOFFSETFROM:+0200
TZOFFSETTO:+0100
TZNAME:CET
DTSTART:20231029T010000
END:STANDARD
END:VTIMEZONE
BEGIN:VEVENT
DTSTART;TZID=Europe/Paris:20221205T193000
DTEND;TZID=Europe/Paris:20221205T220000
DTSTAMP:20260421T120546
CREATED:20220817T150213Z
LAST-MODIFIED:20220817T183544Z
UID:7718-1670268600-1670277600@www.dancetribe.be
SUMMARY:Soirée ouverteMeditation cycle
DESCRIPTION:Meditation cycle (soirée ouverte)\n\nUne alchimie du mouvement et de la quiétude\n			\n			\n				\n				\n				\n				\n			\n				\n				\n				\n				\n				\n				\n				\n				\n				\n				\n				Qu’est-ce que c’est: Lors de cette soirée ouverte à tou(te)s\, nous traverserons le « cycle méditatif » de la pratique Open Floor\, qui alterne des moments de méditation assise\, de marche consiente\, et de danse consciente (=partie principale). Cette pratique aide à nous ancrer à l’intérieur de nous-mêmes et à trouver plus de paix. \nSi c’est la première fois que vous venez danser\, nous vous invitons simplement à lire ceci\, pour entrer plus facilement dans le bain. Bienvenue ! \nPour qui: Pour tou(te)s\, débutants compris. \nQuand: le lundi 5 décembre. Accueil à 19H15 et cours de 19H30 à 22H. \nLieu: Dans une belle grande salle toute en plancher située avenue Léopold Wiener n°32 à 1170 Boitsfort. La salle est très spacieuse\, très haute de plafond\, et sera bien ventilée. \nSituée à 12min à pied du métro Beaulieu\, des bus n°17\, 41 et 95 (arrêt Keym)\, et de la gare de Watermael. Villo le plus proche: station n°345 (3 Tilleuls). \nMatériel: Nous vous recommandons d’apporter un coussin\, une petite couverture\, et une bouteille d’eau. \nPrix: 20 €\, payables sur place (16 € pour les personnes au CPAS). \nInscription: pas nécessaire; venez simplement sur place. Pour être tenu(e) régulièrement informé(e) de nos activités\, écrivez à anne-mieke @ dancetribe.be \nAvec Anne-Mieke Haazen\, enseignante certifiée de Danse Open Floor et de Danse des 5 rythmes.
URL:https://www.dancetribe.be/event/soiree-ouvertemeditation-cycle-2/
LOCATION:Boitsfort\, avenue Léopold Wiener 32\, Bruxelles\, 1170\, Belgique
CATEGORIES:Soirées ouvertes
END:VEVENT
BEGIN:VEVENT
DTSTART;TZID=Europe/Paris:20221207T193000
DTEND;TZID=Europe/Paris:20221207T193000
DTSTAMP:20260421T120546
CREATED:20220816T150022Z
LAST-MODIFIED:20221113T192447Z
UID:7601-1670441400-1670441400@www.dancetribe.be
SUMMARY:Soirée ouverte
DESCRIPTION:Soirée ouverte\n			\n			\n				\n				\n				\n				\n			\n				\n				\n				\n				\n				\n				\n				\n				\n				\n				\n				Qu’est-ce que c’est: Les soirées ouvertes sont accessibles à tou(te)s\, quelle que soit votre expérience. Si c’est la première fois que vous venez danser les 5 rythmes\, nous vous invitons simplement à lire ceci\, pour entrer plus facilement dans le bain. Bienvenue ! \nPour qui: Pour tou(te)s\, débutants compris. \nQuand: le mercredi 7 décembre. Accueil à 19H20. Cours de 19H30 à 22H. \nLieu: rue du Collège 2 à 1348 Louvain-La-Neuve. À partir du parking de la Ferme du Biéreau\, marcher 50m en direction du centre-ville puis entrer à droite dans l’école maternelle. \nPrix: 20 €\, payables sur place. 16 € pour les personnes au CPAS. \nInscription: Il n’est pas nécessaire de s’inscrire; venez simplement sur place. \nAvec Michel Wéry.
URL:https://www.dancetribe.be/event/soiree-ouverte-59/
LOCATION:Louvain-la-Neuve
CATEGORIES:Soirées ouvertes
ORGANIZER;CN="Michel W%C3%A9ry":MAILTO:michel@dancetribe.be
END:VEVENT
BEGIN:VEVENT
DTSTART;TZID=Europe/Paris:20221211T100000
DTEND;TZID=Europe/Paris:20221211T130000
DTSTAMP:20260421T120546
CREATED:20220817T154913Z
LAST-MODIFIED:20240130T141233Z
UID:7707-1670752800-1670763600@www.dancetribe.be
SUMMARY:Let's dance! (enfants & adultes)
DESCRIPTION:Let’s dance!\n\nRencontre enfants-adultes\n			\n			\n				\n				\n				\n				\n			\n				\n				\n				\n				\n				\n				\n				\n				\n				\n				\n				Qu’est-ce que c’est: Une matinée enfants-adultes avec la danse des 5 rythmes\, sur le thème des éléments. Axée sur la rencontre\, elle est adaptée aux enfants de 6 à 12 ans\, ainsi qu’aux adultes prêts à explorer leur enfant intérieur. Si c’est la première fois que vous venez danser les 5 rythmes\, nous vous invitons simplement à lire ceci\, pour entrer plus facilement dans le bain. Bienvenue ! \nLa séance de danse dure deux heures et sera suivie d’une auberge espagnole pour prolonger le plaisir d’être ensemble. \nPour qui (important): Pour les enfants de 6 à 12 ans (école primaire) accompagnés d’un adulte. Attention: les adultes participent pleinement à la danse\, et ne sont pas juste accompagnateurs. C’est donc une belle occasion de danser avec les enfants en général et avec « vos » enfants en particulier. Un adulte peut accompagner maximum 3 enfants. \nQuand: cycle de 4 matinées pouvant être prises séparément.Horaire de 10H à 13H. Merci d’arriver à 9H45.. dimanche 09/10: Terre. dimanche 13/11: Feu. dimanche 11/12: Eau. dimanche 15/01: Air \nLieu:  Avenue Léopold Wiener n°32 à 1170 Boitsfort (Bruxelles).Métro Beaulieu\, bus n°41\, 95 et 96\, et gare de Watermael. \nPrix: 10€ pour le premier enfant\, 8€ pour les suivants (frères et/ou soeurs uniquement)\, et 20€ par adulte (16€ pour les personnes au CPAS). \nMatériel : Des vêtements confortables pour la danse\, une bouteille d’eau\, et de quoi garnir notre buffet commun. Nous prévoyons l’eau\, les tisanes\, les assiettes et les couverts. \nInscription (important): bien remplir le formulaire ci-dessous\, en précisant le nom et l’âge des enfants dans la case ‘Remarque’. Un seul formulaire par groupe. Merci. \nAvec Anne-Mieke Haazen. Formée et accréditée par Gabrielle Roth\, Anne-Mieke enseigne intensivement les 5 rythmes depuis 13 ans. Chaleureuse\, authentique et inspirante\, elle guide les personne en liaison profonde avec son identité de femme. Elle enseigne également la pratique Open Floor et l‘art-thérapie. \n			\n			\n				\n				\n				\n				\n				\n				\n				\n				\n				\n				\n			\n			\n				\n				\n				\n				\n			\n				\n				\n			\n				\n				\n				\n				\n				\n				\n				\n				\n				\n				\n				\n				\n				\n				\n				\n				\n				\n				Inscription\n			\n				\n				\n				\n				\n				\n	Remarque : JavaScript est requis pour ce contenu.\nAucun champ trouvé.
URL:https://www.dancetribe.be/event/lets-dance-enfants-adultes-3/
LOCATION:Boitsfort\, avenue Léopold Wiener 32\, Bruxelles\, 1170\, Belgique
CATEGORIES:Soirées ouvertes
END:VEVENT
BEGIN:VEVENT
DTSTART;TZID=Europe/Paris:20221212T193000
DTEND;TZID=Europe/Paris:20221212T220000
DTSTAMP:20260421T120546
CREATED:20220816T142442Z
LAST-MODIFIED:20221113T192640Z
UID:7562-1670873400-1670882400@www.dancetribe.be
SUMMARY:Soirée ouverte
DESCRIPTION:Soirée ouverte\n			\n			\n				\n				\n				\n				\n			\n				\n				\n				\n				\n				\n				\n				\n				\n				\n				\n				Qu’est-ce que c’est: Les soirées ouvertes sont accessibles à tou(te)s\, quelle que soit votre expérience. Si c’est la première fois que vous venez danser les 5 rythmes\, nous vous invitons simplement à lire ceci\, pour entrer plus facilement dans le bain. Bienvenue ! Pour qui: Pour tou(te)s\, débutants compris. \nQuand: le lundi 12 décembre. Accueil à 19H15. Cours de 19H30 à 22H. Merci d’être ponctuels. \nLieu: Dans une belle grande salle toute en plancher située avenue Léopold Wiener n°32 à 1170 Boitsfort. La salle est très spacieuse\, très haute de plafond\, et sera bien ventilée. \nSituée à 12min à pied du métro Beaulieu\, des bus n°17\, 41 et 95 (arrêt Keym)\, et de la gare de Watermael. Villo le plus proche: station n°345 (3 Tilleuls). \nPrix: 20 €\, payables sur place. 16 € pour les personnes au CPAS. \nInscription: Il n’est pas nécessaire de s’inscrire; venez simplement sur place. \nAvec Michel Wéry.
URL:https://www.dancetribe.be/event/soiree-ouverte-55/
LOCATION:Boitsfort\, avenue Léopold Wiener 32\, Bruxelles\, 1170\, Belgique
CATEGORIES:Soirées ouvertes
ORGANIZER;CN="Michel W%C3%A9ry":MAILTO:michel@dancetribe.be
END:VEVENT
BEGIN:VEVENT
DTSTART;TZID=Europe/Paris:20221214T193000
DTEND;TZID=Europe/Paris:20221214T220000
DTSTAMP:20260421T120546
CREATED:20220819T200717Z
LAST-MODIFIED:20221113T192747Z
UID:7891-1671046200-1671055200@www.dancetribe.be
SUMMARY:Soirée ouverte
DESCRIPTION:Soirée ouverte\n			\n			\n				\n				\n				\n				\n			\n				\n				\n				\n				\n				\n				\n				\n				\n				\n				\n				Qu’est-ce que c’est: Les soirées ouvertes sont accessibles à tou(te)s\, quelle que soit votre expérience. Si c’est la première fois que vous venez danser les 5 rythmes\, nous vous invitons simplement à lire ceci\, pour entrer plus facilement dans le bain. Bienvenue ! \nPour qui: Pour tou(te)s\, débutants compris. \nQuand: le mercredi 14 décembre. Accueil à 19H20. Cours de 19H30 à 22H. \nLieu: rue du Collège 2 à 1348 Louvain-La-Neuve. À partir du parking de la Ferme du Biéreau\, marcher 50m en direction du centre-ville puis entrer à droite dans l’école maternelle. \nPrix: 20 €\, payables sur place. 16 € pour les personnes au CPAS. \nInscription: Il n’est pas nécessaire de s’inscrire; venez simplement sur place. \nAvec Michel Wéry.
URL:https://www.dancetribe.be/event/soiree-ouverte-46/
LOCATION:Louvain-la-Neuve
CATEGORIES:Soirées ouvertes
ORGANIZER;CN="Michel W%C3%A9ry":MAILTO:michel@dancetribe.be
END:VEVENT
BEGIN:VEVENT
DTSTART;TZID=Europe/Paris:20221219T193000
DTEND;TZID=Europe/Paris:20221219T220000
DTSTAMP:20260421T120546
CREATED:20220816T144325Z
LAST-MODIFIED:20221213T182937Z
UID:7581-1671478200-1671487200@www.dancetribe.be
SUMMARY:Soirée ouverteWave after wave
DESCRIPTION:Soirée Wave after Wave\n			\n			\n				\n				\n				\n				\n			\n				\n				\n				\n				\n				\n				\n				\n				\n				\n				\n				« You can’t stop the waves\, but you can learn to surf. »J. Kabat-Zinn \nQu’est-ce que c’est: Lors de cette soirée ouverte à tou(te)s\, Anne-Mieke nous fera traverser deux « vagues »\, çàd deux séquences de 5 rythmes. La première sera guidée\, en explorant un thème spécifique (par exemple le lâcher-prise\, ou autre). Ensuite\, à partir de la qualité de présence et de la profondeur acquises\, nous plongerons librement dans une deuxième vague\, non guidée cette fois.  \nSi c’est la première fois que vous venez danser les 5 rythmes\, nous vous invitons simplement à lire ceci\, pour entrer plus facilement dans le bain. Bienvenue ! \nPour qui: Pour tou(te)s\, débutants compris. \nQuand: le lundi 19 décembre. Accueil à 19H20. Cours de 19H30 à 22H. \nLieu: Dans une belle grande salle toute en plancher située avenue Léopold Wiener n°32 à 1170 Boitsfort. La salle est très spacieuse\, très haute de plafond\, et sera bien ventilée. \nSituée à 12min à pied du métro Beaulieu\, des bus n°17\, 41 et 95 (arrêt Keym)\, et de la gare de Watermael. Villo le plus proche: station n°345 (3 Tilleuls). \nPrix: 20 €\, payables sur place. 16 € pour les personnes au CPAS. \nInscription: Il n’est pas nécessaire de s’inscrire; venez simplement sur place. \nAvec Anne-Mieke Haazen.
URL:https://www.dancetribe.be/event/soiree-ouverte-waw-6/
LOCATION:Boitsfort\, avenue Léopold Wiener 32\, Bruxelles\, 1170\, Belgique
CATEGORIES:Soirées ouvertes
END:VEVENT
BEGIN:VEVENT
DTSTART;TZID=Europe/Paris:20221221T193000
DTEND;TZID=Europe/Paris:20221221T220000
DTSTAMP:20260421T120546
CREATED:20220817T113936Z
LAST-MODIFIED:20230901T110817Z
UID:7679-1671651000-1671660000@www.dancetribe.be
SUMMARY:Soirée ouverteMeditation cycle
DESCRIPTION:Meditation cycle (soirée ouverte)\n\nUne alchimie du mouvement et de la quiétude\n			\n			\n				\n				\n				\n				\n			\n				\n				\n				\n				\n				\n				\n				\n				\n				\n				\n				Qu’est-ce que c’est: Lors de cette soirée ouverte à tou(te)s\, nous traverserons le « cycle méditatif » de la pratique Open Floor\, qui alterne des moments de méditation assise\, de marche consiente\, et de danse consciente (=partie principale). Cette pratique aide à nous ancrer à l’intérieur de nous-mêmes et à trouver plus de paix. \nSi c’est la première fois que vous venez danser\, nous vous invitons simplement à lire ceci\, pour entrer plus facilement dans le bain. Bienvenue ! \nPour qui: Pour tou(te)s\, débutants compris. \nQuand: le mercredi 21 décembre. Accueil à 19H15 et cours de 19H30 à 22H. \nLieu: rue du Collège 2 à 1348 Louvain-La-Neuve. À partir du parking de la Ferme du Biéreau\, marcher 50m en direction du centre-ville puis entrer à droite dans l’école maternelle. \nMatériel: Nous vous recommandons d’apporter un coussin\, une petite couverture\, et une bouteille d’eau. \nPrix: 20 €\, payables sur place (16 € pour les personnes au CPAS). \nInscription: pas nécessaire; venez simplement sur place. Pour être tenu(e) régulièrement informé(e) de nos activités\, écrivez à anne-mieke @ dancetribe.be \nAvec Anne-Mieke Haazen\, enseignante certifiée de Danse Open Floor et de Danse des 5 rythmes.
URL:https://www.dancetribe.be/event/soiree-ouvertemeditation-cycle/
LOCATION:Louvain-la-Neuve
CATEGORIES:Soirées ouvertes
END:VEVENT
BEGIN:VEVENT
DTSTART;TZID=Europe/Paris:20221228T190000
DTEND;TZID=Europe/Paris:20221228T220000
DTSTAMP:20260421T120546
CREATED:20220915T085704Z
LAST-MODIFIED:20221205T152644Z
UID:7985-1672254000-1672264800@www.dancetribe.be
SUMMARY:Soirée ouverte
DESCRIPTION:Soirée ouverte\n			\n			\n				\n				\n				\n				\n			\n				\n				\n				\n				\n				\n				\n				\n				\n				\n				\n				Qu’est-ce que c’est: Les soirées ouvertes sont accessibles à tou(te)s\, quelle que soit votre expérience. Si c’est la première fois que vous venez danser les 5 rythmes\, nous vous invitons simplement à lire ceci\, pour entrer plus facilement dans le bain. Bienvenue ! \nPour qui: Pour tou(te)s\, débutants compris. \nQuand: mercredi 28 décembre\, 19H30-22H \nLieu:  Avenue Léopold Wiener n032 à 1170 Boitsfort (Bruxelles). Métro Beaulieu\, bus n°41\, 95 et 96\, et gare de Watermael. \nPrix: 20€ \nInscription:  L’inscription à cette activité n’est pas nécessaire.Venez simplement sur place. Si vous désirez être tenu(e) régulièrement informé(e) de nos activités\, abonnez-vous à la newsletter en bas de la page d’accueil. \nLangue: FR
URL:https://www.dancetribe.be/event/soiree-ouverte-60/
LOCATION:Boitsfort\, avenue Léopold Wiener 32\, Bruxelles\, 1170\, Belgique
CATEGORIES:Soirées ouvertes
ORGANIZER;CN="Michel W%C3%A9ry":MAILTO:michel@dancetribe.be
END:VEVENT
END:VCALENDAR