BEGIN:VCALENDAR
VERSION:2.0
PRODID:-//dancetribe.be - ECPv6.15.20//NONSGML v1.0//EN
CALSCALE:GREGORIAN
METHOD:PUBLISH
X-ORIGINAL-URL:https://www.dancetribe.be
X-WR-CALDESC:Évènements pour dancetribe.be
REFRESH-INTERVAL;VALUE=DURATION:PT1H
X-Robots-Tag:noindex
X-PUBLISHED-TTL:PT1H
BEGIN:VTIMEZONE
TZID:Europe/Paris
BEGIN:DAYLIGHT
TZOFFSETFROM:+0100
TZOFFSETTO:+0200
TZNAME:CEST
DTSTART:20210328T010000
END:DAYLIGHT
BEGIN:STANDARD
TZOFFSETFROM:+0200
TZOFFSETTO:+0100
TZNAME:CET
DTSTART:20211031T010000
END:STANDARD
BEGIN:DAYLIGHT
TZOFFSETFROM:+0100
TZOFFSETTO:+0200
TZNAME:CEST
DTSTART:20220327T010000
END:DAYLIGHT
BEGIN:STANDARD
TZOFFSETFROM:+0200
TZOFFSETTO:+0100
TZNAME:CET
DTSTART:20221030T010000
END:STANDARD
BEGIN:DAYLIGHT
TZOFFSETFROM:+0100
TZOFFSETTO:+0200
TZNAME:CEST
DTSTART:20230326T010000
END:DAYLIGHT
BEGIN:STANDARD
TZOFFSETFROM:+0200
TZOFFSETTO:+0100
TZNAME:CET
DTSTART:20231029T010000
END:STANDARD
END:VTIMEZONE
BEGIN:VEVENT
DTSTART;TZID=Europe/Paris:20220819T080000
DTEND;TZID=Europe/Paris:20220822T170000
DTSTAMP:20260421T185604
CREATED:20220519T151057Z
LAST-MODIFIED:20251113T110025Z
UID:7236-1660896000-1661187600@www.dancetribe.be
SUMMARY:OSE !
DESCRIPTION:Ose !\n			\n			\n				\n				\n				\n				\n			\n				\n				\n				\n				\n				\n				\n				\n				\n				\n				\n				Une aventure qui transforme\n			\n			\n				\n				\n				\n				\n			\n				\n				\n				\n				\n				\n				\n				\n				\n				\n				\n				\n			\n			\n				\n				\n				\n				\n				\n				\n				\n				\n				\n				 \n \n \n \n \n \nOse traverser tes ombres\, \nOse incarner ta lumière\, \nOse réaliser ton potentiel ! \n\n			\n			\n				\n				\n				\n				\n			\n				\n				\n				\n				\n				\n				\n				\n				\n				\n				\n				Ces trois jours et demi seront l’opportunité de réveiller une nouvelle part de notre immense potentiel\, en osant l’incarner et le manifester\, en bonne compagnie. Vivre notre potentiel est probablement le plus beau cadeau que nous puissions nous offrir à nous-mêmes… ainsi qu’au monde extérieur. \nDans la danse\, nous verrons comment toute action juste s’enracine dans notre alignement et notre confiance ; nous irons transformer les voix intérieures qui nous maintiennent petits; et last but not least nous contacterons notre puissance créatrice. \nDans cette aventure ensemble\, nous nous rencontrerons dans nos vulnérabilités comme dans nos forces\, et nous serons là les uns pour les autres. \n \nBienvenue à ce nouveau pas vers ton plein potentiel ! \n   \n\n			\n			\n				\n				\n				\n				\n				\n				\n				\n				\n				\n				\n			\n			\n				\n				\n				\n				\n			\n				\n				\n			\n				\n				\n				\n				\n				\n				\n				\n				\n				\n				\n				\n				\n				\n				\n				\n				\n				Modalités\n\nDates : du vendredi 19 au lundi 22 août 2022. Vendredi de 19H30 à 22H\, et les jours suivants de 11H à 18H.\nLieu : dans une belle salle toute en plancher située avenue Léopold Wiener n°32 à 1170 Boitsfort. À 15 min. à pied de la gare de Watermael\, du métro Beaulieu et des bus n°41\, 95 et 96.\nPour qui : ouvert à tou(te)s. NB: en cas de difficulté physique ou autre\, veuillez nous le signaler avant le début du stage afin de pouvoir vous accompagner au mieux.\nMatériel : Des vêtements confortables pour la danse\, de quoi écrire\, et une bouteille d’eau. Lors des repas\, nous partagerons ce que chacun aura apporté (‘auberge espagnole’ pour tous ceux qui veulent). Nous prévoyons l’eau\, les tisanes et les couverts.\nPrix et inscription : 240 € payables sur place ou par virement sur le compte BE26 0635 0474 8629 de Michel Wéry\, communication « J’ose! ». Pour s’inscrire\, merci de remplir le formulaire au bas de cette page.\n\n \nAvec Michel Wéry\, formé et accrédité par Gabrielle Roth en 2004\, puis accrédité pour enseigner le travail émotionnel ‘heartbeat’ depuis 2010. Simple et authentique\, il pose un cadre rassurant\, tout en vous encourageant à transcender vos limites établies… et à embrasser tout ce que vous êtes. \n\n			\n			\n				\n				\n				\n				\n				\n				\n				\n				\n				\n				\n				\n				\n				\n				\n				\n				\n			\n			\n				\n				\n				\n				\n			\n			\n				\n				\n			\n				\n				\n				\n				\n				\n				\n				\n				\n				\n				\n				\n				\n				\n				\n				\n				\n				\n				\n				\n					" J’aime particulièrement le caractère sauvage de la danse des 5 rythmes\, qui m’enracine dans tout mon être. Lorsque je donne cours\, j'aime suivre les besoins du moment et je m'appuie énormément sur mon intuition. Pour moi\, la grande beauté de cette pratique est ce côté inattendu et magique\, qui se produit chaque fois qu'on est alignés corps\, coeur et âme. Tout est alors possible. " \n\n					\n					 \n				\n			\n				\n				\n				\n				\n				Inscription\n			\n				\n				\n				\n				\n				\n	Remarque : JavaScript est requis pour ce contenu.
URL:https://www.dancetribe.be/event/ose/
LOCATION:Boitsfort\, avenue Léopold Wiener 32\, Bruxelles\, 1170\, Belgique
CATEGORIES:Stages
ORGANIZER;CN="Michel W%C3%A9ry":MAILTO:michel@dancetribe.be
END:VEVENT
BEGIN:VEVENT
DTSTART;TZID=Europe/Paris:20220822T193000
DTEND;TZID=Europe/Paris:20220822T220000
DTSTAMP:20260421T185604
CREATED:20220520T163154Z
LAST-MODIFIED:20220817T105927Z
UID:7314-1661196600-1661205600@www.dancetribe.be
SUMMARY:Soirée ouverteWaves after waves
DESCRIPTION:Soirée Wave after Wave\n			\n			\n				\n				\n				\n				\n			\n				\n				\n				\n				\n				\n				\n				\n				\n				\n				\n				« You can’t stop the waves\, but you can learn to surf. »\nJ. Kabat-Zinn \nQu’est-ce que c’est: Lors de cette soirée ouverte à tou(te)s\, Anne-Mieke nous fera traverser deux « vagues »\, çàd deux séquences de 5 rythmes. La première sera guidée\, en explorant un thème spécifique (par exemple le lâcher-prise\, ou autre). Ensuite\, à partir de la qualité de présence et de la profondeur acquises\, nous plongerons librement dans une deuxième vague\, non guidée cette fois. Si c’est la première fois que vous venez danser les 5 rythmes\, nous vous invitons simplement à lire ceci\, pour entrer plus facilement dans le bain. Bienvenue ! \nPour qui: Pour tou(te)s\, débutants compris. \nQuand: le lundi 22 août. Accueil à 19H20. Cours de 19H30 à 22H. \nLieu: Dans une belle grande salle toute en plancher située avenue Léopold Wiener n°32 à 1170 Boitsfort. La salle est très spacieuse\, très haute de plafond\, et sera bien ventilée. \nSituée à 12min à pied du métro Beaulieu\, des bus n°17\, 41 et 95 (arrêt Keym)\, et de la gare de Watermael. Villo le plus proche: station n°345 (3 Tilleuls). \nPrix: 20 €\, payables sur place. 16 € pour les personnes au CPAS. \nInscription: Il n’est pas nécessaire de s’inscrire; venez simplement sur place. \nAvec Anne-Mieke Haazen.
URL:https://www.dancetribe.be/event/soiree-ouverte-waw-3/
LOCATION:Boitsfort\, avenue Léopold Wiener 32\, Bruxelles\, 1170\, Belgique
CATEGORIES:Soirées ouvertes
END:VEVENT
BEGIN:VEVENT
DTSTART;TZID=Europe/Paris:20220824T193000
DTEND;TZID=Europe/Paris:20220824T220000
DTSTAMP:20260421T185604
CREATED:20220520T155426Z
LAST-MODIFIED:20220816T132757Z
UID:7272-1661369400-1661378400@www.dancetribe.be
SUMMARY:Soirée ouverte
DESCRIPTION:Soirée ouverte\n			\n			\n				\n				\n				\n				\n			\n				\n				\n				\n				\n				\n				\n				\n				\n				\n				\n				Qu’est-ce que c’est: Les soirées ouvertes sont accessibles à tou(te)s\, quelle que soit votre expérience. Si c’est la première fois que vous venez danser les 5 rythmes\, nous vous invitons simplement à lire ceci\, pour entrer plus facilement dans le bain. Bienvenue ! \nPour qui: Pour tou(te)s\, débutants compris. \nQuand: le mercredi 24 août. Accueil à 19H20. Cours de 19H30 à 22H. \nLieu: rue du Collège 2 à 1348 Louvain-La-Neuve. À partir du parking de la Ferme du Biéreau\, marcher 50m en direction du centre-ville puis entrer à droite dans l’école maternelle. \nPrix: 20 €\, payables sur place. 16 € pour les personnes au CPAS. \nInscription: Il n’est pas nécessaire de s’inscrire; venez simplement sur place. \nAvec Michel Wéry.
URL:https://www.dancetribe.be/event/soiree-ouverte-45/
LOCATION:Louvain-la-Neuve
CATEGORIES:Soirées ouvertes
ORGANIZER;CN="Michel W%C3%A9ry":MAILTO:michel@dancetribe.be
END:VEVENT
BEGIN:VEVENT
DTSTART;TZID=Europe/Paris:20220829T193000
DTEND;TZID=Europe/Paris:20220829T220000
DTSTAMP:20260421T185604
CREATED:20220520T163812Z
LAST-MODIFIED:20220816T132833Z
UID:7324-1661801400-1661810400@www.dancetribe.be
SUMMARY:Soirée ouverte
DESCRIPTION:Soirée ouverte\n			\n			\n				\n				\n				\n				\n			\n				\n				\n				\n				\n				\n				\n				\n				\n				\n				\n				Qu’est-ce que c’est: Les soirées ouvertes sont accessibles à tou(te)s\, quelle que soit votre expérience. Si c’est la première fois que vous venez danser les 5 rythmes\, nous vous invitons simplement à lire ceci\, pour entrer plus facilement dans le bain. Bienvenue ! Pour qui: Pour tou(te)s\, débutants compris. \nQuand: le lundi 29 août. Accueil à 19H15. Cours de 19H30 à 22H. Merci d’être ponctuels. \nLieu: Dans une belle grande salle toute en plancher située avenue Léopold Wiener n°32 à 1170 Boitsfort. La salle est très spacieuse\, très haute de plafond\, et sera bien ventilée. \nSituée à 12min à pied du métro Beaulieu\, des bus n°17\, 41 et 95 (arrêt Keym)\, et de la gare de Watermael. Villo le plus proche: station n°345 (3 Tilleuls). \nPrix: 20 €\, payables sur place. 16 € pour les personnes au CPAS. \nInscription: Il n’est pas nécessaire de s’inscrire; venez simplement sur place. \nAvec Michel Wéry.
URL:https://www.dancetribe.be/event/soiree-ouverte-49/
LOCATION:Boitsfort\, avenue Léopold Wiener 32\, Bruxelles\, 1170\, Belgique
CATEGORIES:Soirées ouvertes
ORGANIZER;CN="Michel W%C3%A9ry":MAILTO:michel@dancetribe.be
END:VEVENT
BEGIN:VEVENT
DTSTART;TZID=Europe/Paris:20220831T193000
DTEND;TZID=Europe/Paris:20220831T220000
DTSTAMP:20260421T185604
CREATED:20220520T161120Z
LAST-MODIFIED:20220818T060241Z
UID:7301-1661974200-1661983200@www.dancetribe.be
SUMMARY:Soirée ouverteWave after wave
DESCRIPTION:Soirée Wave after Wave\n			\n			\n				\n				\n				\n				\n			\n				\n				\n				\n				\n				\n				\n				\n				\n				\n				\n				« You can’t stop the waves\, but you can learn to surf. »J. Kabat-Zinn \nQu’est-ce que c’est: Lors de cette soirée ouverte à tou(te)s\, Anne-Mieke nous fera traverser deux « vagues »\, çàd deux séquences de 5 rythmes. La première sera guidée\, en explorant un thème spécifique (par exemple le lâcher-prise\, ou autre). Ensuite\, à partir de la qualité de présence et de la profondeur acquises\, nous plongerons librement dans une deuxième vague\, non guidée cette fois.  \nSi c’est la première fois que vous venez danser les 5 rythmes\, nous vous invitons simplement à lire ceci\, pour entrer plus facilement dans le bain. Bienvenue ! \nPour qui: Pour tou(te)s\, débutants compris. \nQuand: le mercredi 31 août. Accueil à 19H20. Cours de 19H30 à 22H. \nLieu: rue du Collège 2 à 1348 Louvain-La-Neuve. À partir du parking de la Ferme du Biéreau\, marcher 50m en direction du centre-ville puis entrer à droite dans l’école maternelle. \nPrix: 20 €\, payables sur place. 16 € pour les personnes au CPAS. \nInscription: Il n’est pas nécessaire de s’inscrire; venez simplement sur place. \nAvec Anne-Mieke Haazen.
URL:https://www.dancetribe.be/event/soiree-ouverte-48/
LOCATION:Louvain-la-Neuve
CATEGORIES:Soirées ouvertes
END:VEVENT
END:VCALENDAR