BEGIN:VCALENDAR
VERSION:2.0
PRODID:-//dancetribe.be - ECPv6.15.20//NONSGML v1.0//EN
CALSCALE:GREGORIAN
METHOD:PUBLISH
X-ORIGINAL-URL:https://www.dancetribe.be
X-WR-CALDESC:Évènements pour dancetribe.be
REFRESH-INTERVAL;VALUE=DURATION:PT1H
X-Robots-Tag:noindex
X-PUBLISHED-TTL:PT1H
BEGIN:VTIMEZONE
TZID:Europe/Paris
BEGIN:DAYLIGHT
TZOFFSETFROM:+0100
TZOFFSETTO:+0200
TZNAME:CEST
DTSTART:20210328T010000
END:DAYLIGHT
BEGIN:STANDARD
TZOFFSETFROM:+0200
TZOFFSETTO:+0100
TZNAME:CET
DTSTART:20211031T010000
END:STANDARD
BEGIN:DAYLIGHT
TZOFFSETFROM:+0100
TZOFFSETTO:+0200
TZNAME:CEST
DTSTART:20220327T010000
END:DAYLIGHT
BEGIN:STANDARD
TZOFFSETFROM:+0200
TZOFFSETTO:+0100
TZNAME:CET
DTSTART:20221030T010000
END:STANDARD
BEGIN:DAYLIGHT
TZOFFSETFROM:+0100
TZOFFSETTO:+0200
TZNAME:CEST
DTSTART:20230326T010000
END:DAYLIGHT
BEGIN:STANDARD
TZOFFSETFROM:+0200
TZOFFSETTO:+0100
TZNAME:CET
DTSTART:20231029T010000
END:STANDARD
END:VTIMEZONE
BEGIN:VEVENT
DTSTART;TZID=Europe/Paris:20220502T200000
DTEND;TZID=Europe/Paris:20220502T220000
DTSTAMP:20260421T232709
CREATED:20220311T113155Z
LAST-MODIFIED:20220405T121638Z
UID:7004-1651521600-1651528800@www.dancetribe.be
SUMMARY:DÉMARRAGE GROUPE LUNDI
DESCRIPTION:Groupe régulier du lundi – Moving with Change\n			\n			\n				\n				\n				\n				\n			\n				\n				\n				\n				\n				\n				\n				\n				\n				\n				\n				\n			\n			\n				\n				\n				\n				\n			\n				\n				\n				\n				\n				\n				\n				\n				\n				\n				\n				\n			\n			\n				\n				\n				\n				\n			\n				\n				\n				\n				\n				\n				\n				\n				\n				\n				\n				Thème de ce groupe: alors que le monde change autour de nous de manière parfois chaotique\, nous sommes appelés à danser plus profondément pour développer notre centrage et notre enracinement\, notre capacité de résilience et notre force\, notre joie de vivre et notre créativité. \nNous t’invitons à pratiquer les 5 rythmes régulièrement\, en dansant dans un groupe qui évolue ensemble et qui se retrouve de semaine en semaine. \n			\n			\n				\n				\n				\n				\n				\n				\n				\n				\n				\n				Quel que soit notre état présent\, nous aurons rendez-vous avec la danse et avec la communauté\, pour découvrir les mille-et-une manières dont la danse nous transforme. Nous utiliserons des outils simples et puissants pour devenir plus nous aligner: corps\, coeur et esprit. \nDans le même bateau\, nous recevons et offrons du soutien\, et nous encourageons à prendre des risques et à grandir\, dans un cadre de confiance. Bienvenue à toi. \n			\n			\n				\n				\n				\n				\n			\n				\n				\n			\n				\n				\n				\n				\n				\n				\n				\n				\n				\n				\n				\n				\n				\n				\n				\n				\n				Modalités\n			\n				\n				\n				\n				\n				– Pour qui : pour tou(te)s\, quelle que soit l’expérience et la condition physique. Si c’est la première fois que vous venez danser les 5 rythmes\, nous vous invitons à lire ceci. \n– Dates : les lundi 2\, 9\, 23\, 30 mai\, et les 13\, 20 et 27 juin 2022\, de 19H30 à 22H. Merci d’arriver à 19H15-20 pour démarrer à temps. \n– Lieu : Dans une belle grande salle toute en plancher située avenue Léopold Wiener n°32 à 1170 Boitsfort. La salle est très spacieuse\, très haute de plafond\, et sera bien ventilée. \nSituée à 12min à pied du métro Beaulieu\, des bus n°17\, 41 et 95 (arrêt Keym)\, et de la gare de Watermael. Villo le plus proche: station n°345 (3 Tilleuls). \n– Prix : 130 € pour 8 séances: les 7 séances mentionnées plus haut + 1 soirée ouverte au choix (valable 3 mois à partir du début du groupe). \nCe prix représente une réduction de 20% par rapport aux soirées ouvertes\, et compense donc près de 2 soirées que vous pourriez éventuellement manquer. Il n’y a pas d’autre compensation possible en cas d’absence de votre part. \nLe payement s’effectue sur place lors du premier cours (ou par virement sur le compte BE26 0635 0474 8629 au plus tard trois jours avant le début du groupe – communication « Groupe du lundi »). \nNous avons un système spécial pour les parents qui ont leurs enfants en garde alternée (cliquer pour les détails). \n– Avec Anne-Mieke Haazen et Michel Wéry.  \n  \n  \n			\n			\n				\n				\n				\n				\n				\n				\n				\n				\n				\n				\n				\n				\n				\n				\n				\n				\n			\n			\n				\n				\n				\n				\n			\n			\n				\n				\n			\n				\n				\n				\n				\n				\n				\n				\n				\n				\n				\n				\n				\n				\n				\n				\n				\n				\n				Inscription\n			\n				\n				\n				\n				\n				\n	Remarque : JavaScript est requis pour ce contenu.\nAucun champ trouvé.
URL:https://www.dancetribe.be/event/demarrage-groupe-lundi-4/
LOCATION:Boitsfort\, avenue Léopold Wiener 32\, Bruxelles\, 1170\, Belgique
CATEGORIES:Groupes réguliers
END:VEVENT
BEGIN:VEVENT
DTSTART;TZID=Europe/Paris:20220504T193000
DTEND;TZID=Europe/Paris:20220504T220000
DTSTAMP:20260421T232709
CREATED:20220311T113755Z
LAST-MODIFIED:20220816T160328Z
UID:7009-1651692600-1651701600@www.dancetribe.be
SUMMARY:DÉMARRAGE GROUPE MERCREDI
DESCRIPTION:Groupe régulier du mercredi – Moving with Change\n			\n			\n				\n				\n				\n				\n			\n				\n				\n				\n				\n				\n				\n				\n				\n				\n				\n				\n			\n			\n				\n				\n				\n				\n			\n				\n				\n				\n				\n				\n				\n				\n				\n				\n				\n				\n			\n			\n				\n				\n				\n				\n			\n				\n				\n				\n				\n				\n				\n				\n				\n				\n				\n				Thème de ce groupe: alors que le monde change autour de nous de manière parfois chaotique\, nous sommes appelés à danser plus profondément pour développer notre centrage et notre enracinement\, notre capacité de résilience et notre force\, notre joie de vivre et notre créativité. \nNous t’invitons à pratiquer les 5 rythmes régulièrement\, en dansant dans un groupe qui évolue ensemble et qui se retrouve de semaine en semaine. \n			\n			\n				\n				\n				\n				\n				\n				\n				\n				\n				\n				Quel que soit notre état présent\, nous aurons rendez-vous avec la danse et avec la communauté\, pour découvrir les mille-et-une manières dont la danse nous transforme. Nous utiliserons des outils simples et puissants pour devenir plus nous aligner: corps\, coeur et esprit. \nDans le même bateau\, nous recevons et offrons du soutien\, et nous encourageons à prendre des risques et à grandir\, dans un cadre de confiance. Bienvenue à toi. \n			\n			\n				\n				\n				\n				\n			\n				\n				\n			\n				\n				\n				\n				\n				\n				\n				\n				\n				\n				\n				\n				\n				\n				\n				\n				\n				Modalités\n			\n				\n				\n				\n				\n				– Pour qui : pour tou(te)s\, quelle que soit l’expérience et la condition physique. Si c’est la première fois que vous venez danser les 5 rythmes\, nous vous invitons à lire ceci. \n– Dates : les mercredi 4\, 11\, 18 mai\, et les 1er\, 8\, 22 et 29 juin 2022\, de 19H30 à 22H. Merci d’arriver vers 19H15 pour démarrer à temps. \n– Lieu : Ecole maternelle située rue du Collège 2 à 1348 Louvain-La-Neuve. Depuis le parking de la Ferme du Biéreau\, c’est le premier bâtiment sur la droite lorsque vous marchez en direction du centre-ville. \n– Prix : 130 € pour 8 séances: les 7 séances mentionnées plus haut + 1 soirée ouverte au choix (valable 3 mois à partir du début du groupe). \nCe prix représente une réduction de 20% par rapport aux soirées ouvertes\, et compense donc près de 2 soirées que vous pourriez éventuellement manquer. Il n’y a pas d’autre compensation possible en cas d’absence de votre part. \nLe payement s’effectue sur place lors du premier cours (ou par virement sur le compte BE26 0635 0474 8629 au plus tard trois jours avant le début du groupe – communication « Groupe du mercredi »). \nNous avons un système spécial pour les parents qui ont leurs enfants en garde alternée (cliquer ici pour les détails). \n– Avec Anne-Mieke Haazen et Michel Wéry.  \n  \n  \n			\n			\n				\n				\n				\n				\n				\n				\n				\n				\n				\n				\n				\n				\n				\n				\n				\n				\n			\n			\n				\n				\n				\n				\n			\n			\n				\n				\n			\n				\n				\n				\n				\n				\n				\n				\n				\n				\n				\n				\n				\n				\n				\n				\n				\n				\n				Inscription\n			\n				\n				\n				\n				\n				\n	Remarque : JavaScript est requis pour ce contenu.\nAucun champ trouvé.
URL:https://www.dancetribe.be/event/demarrage-groupe-mercredi-4/
LOCATION:Louvain-la-Neuve
CATEGORIES:Groupes réguliers
END:VEVENT
BEGIN:VEVENT
DTSTART;TZID=Europe/Paris:20220509T193000
DTEND;TZID=Europe/Paris:20220509T220000
DTSTAMP:20260421T232709
CREATED:20220311T124859Z
LAST-MODIFIED:20220311T125843Z
UID:7033-1652124600-1652133600@www.dancetribe.be
SUMMARY:Groupe régulier lundi
DESCRIPTION:Groupe régulier du lundi – Moving with Change\n			\n			\n				\n				\n				\n				\n			\n				\n				\n				\n				\n				\n				\n				\n				\n				\n				\n				\n			\n			\n				\n				\n				\n				\n			\n				\n				\n				\n				\n				\n				\n				\n				\n				\n				\n				\n			\n			\n				\n				\n				\n				\n			\n				\n				\n				\n				\n				\n				\n				\n				\n				\n				\n				Thème de ce groupe: alors que le monde change autour de nous de manière parfois chaotique\, nous sommes appelés à danser plus profondément pour développer notre centrage et notre enracinement\, notre capacité de résilience et notre force\, notre joie de vivre et notre créativité. \nNous t’invitons à pratiquer les 5 rythmes régulièrement\, en dansant dans un groupe qui évolue ensemble et qui se retrouve de semaine en semaine. \n			\n			\n				\n				\n				\n				\n				\n				\n				\n				\n				\n				Quel que soit notre état présent\, nous aurons rendez-vous avec la danse et avec la communauté\, pour découvrir les mille-et-une manières dont la danse nous transforme. Nous utiliserons des outils simples et puissants pour devenir plus nous aligner: corps\, coeur et esprit. \nDans le même bateau\, nous recevons et offrons du soutien\, et nous encourageons à prendre des risques et à grandir\, dans un cadre de confiance. Bienvenue à toi. \n			\n			\n				\n				\n				\n				\n			\n				\n				\n			\n				\n				\n				\n				\n				\n				\n				\n				\n				\n				\n				\n				\n				\n				\n				\n				\n				Modalités\n			\n				\n				\n				\n				\n				– Pour qui : pour tou(te)s\, quelle que soit l’expérience et la condition physique. Si c’est la première fois que vous venez danser les 5 rythmes\, nous vous invitons à lire ceci. \n– Dates : les lundi 2\, 9\, 23\, 30 mai\, et les 13\, 20 et 27 juin 2022\, de 19H30 à 22H. Merci d’arriver à 19H15-20 pour démarrer à temps. \n– Lieu : Dans une belle grande salle toute en plancher située avenue Léopold Wiener n°32 à 1170 Boitsfort. La salle est très spacieuse\, très haute de plafond\, et sera bien ventilée. \nSituée à 12min à pied du métro Beaulieu\, des bus n°17\, 41 et 95 (arrêt Keym)\, et de la gare de Watermael. Villo le plus proche: station n°345 (3 Tilleuls). \n– Prix : 130 € pour 8 séances: les 7 séances mentionnées plus haut + 1 soirée ouverte au choix (valable 3 mois à partir du début du groupe). \nCe prix représente une réduction de 20% par rapport aux soirées ouvertes\, et compense donc près de 2 soirées que vous pourriez éventuellement manquer. Il n’y a pas d’autre compensation possible en cas d’absence de votre part. \nLe payement s’effectue sur place lors du premier cours (ou par virement sur le compte BE26 0635 0474 8629 au plus tard trois jours avant le début du groupe – communication « Groupe du mercredi »). \nNous avons un système spécial pour les parents qui ont leurs enfants en garde alternée (cliquer pour les détails). \n– Avec Anne-Mieke Haazen et Michel Wéry.  \n  \n  \n			\n			\n				\n				\n				\n				\n				\n				\n				\n				\n				\n				\n				\n				\n				\n				\n				\n				\n			\n			\n				\n				\n				\n				\n			\n			\n				\n				\n			\n				\n				\n				\n				\n				\n				\n				\n				\n				\n				\n				\n				\n				\n				\n				\n				\n				\n				Inscription\n			\n				\n				\n				\n				\n				\n	Remarque : JavaScript est requis pour ce contenu.\nAucun champ trouvé.
URL:https://www.dancetribe.be/event/groupe-regulier-lundi-13/
LOCATION:Boitsfort\, avenue Léopold Wiener 32\, Bruxelles\, 1170\, Belgique
CATEGORIES:Groupes réguliers
ORGANIZER;CN="Michel W%C3%A9ry":MAILTO:michel@dancetribe.be
END:VEVENT
BEGIN:VEVENT
DTSTART;TZID=Europe/Paris:20220511T193000
DTEND;TZID=Europe/Paris:20220511T220000
DTSTAMP:20260421T232709
CREATED:20220311T131749Z
LAST-MODIFIED:20220311T131856Z
UID:7072-1652297400-1652306400@www.dancetribe.be
SUMMARY:Groupe régulier mercredi
DESCRIPTION:Groupe régulier du mercredi – Moving with Change\n			\n			\n				\n				\n				\n				\n			\n				\n				\n				\n				\n				\n				\n				\n				\n				\n				\n				\n			\n			\n				\n				\n				\n				\n			\n				\n				\n				\n				\n				\n				\n				\n				\n				\n				\n				\n			\n			\n				\n				\n				\n				\n			\n				\n				\n				\n				\n				\n				\n				\n				\n				\n				\n				Thème de ce groupe: alors que le monde change autour de nous de manière parfois chaotique\, nous sommes appelés à danser plus profondément pour développer notre centrage et notre enracinement\, notre capacité de résilience et notre force\, notre joie de vivre et notre créativité. \nNous t’invitons à pratiquer les 5 rythmes régulièrement\, en dansant dans un groupe qui évolue ensemble et qui se retrouve de semaine en semaine. \n			\n			\n				\n				\n				\n				\n				\n				\n				\n				\n				\n				Quel que soit notre état présent\, nous aurons rendez-vous avec la danse et avec la communauté\, pour découvrir les mille-et-une manières dont la danse nous transforme. Nous utiliserons des outils simples et puissants pour devenir plus nous aligner: corps\, coeur et esprit. \nDans le même bateau\, nous recevons et offrons du soutien\, et nous encourageons à prendre des risques et à grandir\, dans un cadre de confiance. Bienvenue à toi. \n			\n			\n				\n				\n				\n				\n			\n				\n				\n			\n				\n				\n				\n				\n				\n				\n				\n				\n				\n				\n				\n				\n				\n				\n				\n				\n				Modalités\n			\n				\n				\n				\n				\n				– Pour qui : pour tou(te)s\, quelle que soit l’expérience et la condition physique. Si c’est la première fois que vous venez danser les 5 rythmes\, nous vous invitons à lire ceci. \n– Dates : les mercredi 4\, 11\, 18 mai\, et les 1er\, 8\, 22 et 29 juin 2022\, de 19H30 à 22H. Merci d’arriver vers 19H15 pour démarrer à temps. \n– Lieu : Ecole maternelle située rue du Collège 2 à 1348 Louvain-La-Neuve. Depuis le parking de la Ferme du Biéreau\, c’est le premier bâtiment sur la droite lorsque vous marchez en direction du centre-ville. \n– Prix : 130 € pour 8 séances: les 7 séances mentionnées plus haut + 1 soirée ouverte au choix (valable 3 mois à partir du début du groupe). \nCe prix représente une réduction de 20% par rapport aux soirées ouvertes\, et compense donc près de 2 soirées que vous pourriez éventuellement manquer. Il n’y a pas d’autre compensation possible en cas d’absence de votre part. \nLe payement s’effectue sur place lors du premier cours (ou par virement sur le compte BE26 0635 0474 8629 au plus tard trois jours avant le début du groupe – communication « Groupe du mercredi »). \nNous avons un système spécial pour les parents qui ont leurs enfants en garde alternée (cliquer ici pour les détails). \n– Avec Anne-Mieke Haazen et Michel Wéry.  \n  \n  \n			\n			\n				\n				\n				\n				\n				\n				\n				\n				\n				\n				\n				\n				\n				\n				\n				\n				\n			\n			\n				\n				\n				\n				\n			\n			\n				\n				\n			\n				\n				\n				\n				\n				\n				\n				\n				\n				\n				\n				\n				\n				\n				\n				\n				\n				\n				Inscription\n			\n				\n				\n				\n				\n				\n	Remarque : JavaScript est requis pour ce contenu.\nAucun champ trouvé.
URL:https://www.dancetribe.be/event/groupe-regulier-mercredi-12/
LOCATION:Louvain-la-Neuve
CATEGORIES:Groupes réguliers
ORGANIZER;CN="Michel W%C3%A9ry":MAILTO:michel@dancetribe.be
END:VEVENT
BEGIN:VEVENT
DTSTART;TZID=Europe/Paris:20220516T193000
DTEND;TZID=Europe/Paris:20220516T220000
DTSTAMP:20260421T232709
CREATED:20220311T145344Z
LAST-MODIFIED:20220311T145526Z
UID:7155-1652729400-1652738400@www.dancetribe.be
SUMMARY:Soirée ouverte
DESCRIPTION:Soirée ouverte\n			\n			\n				\n				\n				\n				\n			\n				\n				\n				\n				\n				\n				\n				\n				\n				\n				\n				Qu’est-ce que c’est: Les soirées ouvertes sont accessibles à tou(te)s\, quelle que soit votre expérience. Si c’est la première fois que vous venez danser les 5 rythmes\, nous vous invitons simplement à lire ceci\, pour entrer plus facilement dans le bain. Bienvenue ! \nPour qui: Pour tou(te)s\, débutants compris. \nQuand: le lundi 16 mai. Accueil à 19H15. Cours de 19H30 à 22H. Merci d’être ponctuels. \nLieu: Dans une belle grande salle toute en plancher située avenue Léopold Wiener n°32 à 1170 Boitsfort. La salle est très spacieuse\, très haute de plafond\, et sera bien ventilée. \nSituée à 12min à pied du métro Beaulieu\, des bus n°17\, 41 et 95 (arrêt Keym)\, et de la gare de Watermael. Villo le plus proche: station n°345 (3 Tilleuls). \nPrix: 20 €\, payables sur place. 16 € pour les personnes au CPAS. \nInscription: Il n’est pas nécessaire de s’inscrire; venez simplement sur place. \nAvec Michel Wéry.
URL:https://www.dancetribe.be/event/soiree-ouverte-42/
LOCATION:Boitsfort\, avenue Léopold Wiener 32\, Bruxelles\, 1170\, Belgique
CATEGORIES:Soirées ouvertes
ORGANIZER;CN="Michel W%C3%A9ry":MAILTO:michel@dancetribe.be
END:VEVENT
BEGIN:VEVENT
DTSTART;TZID=Europe/Paris:20220518T193000
DTEND;TZID=Europe/Paris:20220518T220000
DTSTAMP:20260421T232709
CREATED:20220311T132000Z
LAST-MODIFIED:20220311T132043Z
UID:7077-1652902200-1652911200@www.dancetribe.be
SUMMARY:Groupe régulier mercredi
DESCRIPTION:Groupe régulier du mercredi – Moving with Change\n			\n			\n				\n				\n				\n				\n			\n				\n				\n				\n				\n				\n				\n				\n				\n				\n				\n				\n			\n			\n				\n				\n				\n				\n			\n				\n				\n				\n				\n				\n				\n				\n				\n				\n				\n				\n			\n			\n				\n				\n				\n				\n			\n				\n				\n				\n				\n				\n				\n				\n				\n				\n				\n				Thème de ce groupe: alors que le monde change autour de nous de manière parfois chaotique\, nous sommes appelés à danser plus profondément pour développer notre centrage et notre enracinement\, notre capacité de résilience et notre force\, notre joie de vivre et notre créativité. \nNous t’invitons à pratiquer les 5 rythmes régulièrement\, en dansant dans un groupe qui évolue ensemble et qui se retrouve de semaine en semaine. \n			\n			\n				\n				\n				\n				\n				\n				\n				\n				\n				\n				Quel que soit notre état présent\, nous aurons rendez-vous avec la danse et avec la communauté\, pour découvrir les mille-et-une manières dont la danse nous transforme. Nous utiliserons des outils simples et puissants pour devenir plus nous aligner: corps\, coeur et esprit. \nDans le même bateau\, nous recevons et offrons du soutien\, et nous encourageons à prendre des risques et à grandir\, dans un cadre de confiance. Bienvenue à toi. \n			\n			\n				\n				\n				\n				\n			\n				\n				\n			\n				\n				\n				\n				\n				\n				\n				\n				\n				\n				\n				\n				\n				\n				\n				\n				\n				Modalités\n			\n				\n				\n				\n				\n				– Pour qui : pour tou(te)s\, quelle que soit l’expérience et la condition physique. Si c’est la première fois que vous venez danser les 5 rythmes\, nous vous invitons à lire ceci. \n– Dates : les mercredi 4\, 11\, 18 mai\, et les 1er\, 8\, 22 et 29 juin 2022\, de 19H30 à 22H. Merci d’arriver vers 19H15 pour démarrer à temps. \n– Lieu : Ecole maternelle située rue du Collège 2 à 1348 Louvain-La-Neuve. Depuis le parking de la Ferme du Biéreau\, c’est le premier bâtiment sur la droite lorsque vous marchez en direction du centre-ville. \n– Prix : 130 € pour 8 séances: les 7 séances mentionnées plus haut + 1 soirée ouverte au choix (valable 3 mois à partir du début du groupe). \nCe prix représente une réduction de 20% par rapport aux soirées ouvertes\, et compense donc près de 2 soirées que vous pourriez éventuellement manquer. Il n’y a pas d’autre compensation possible en cas d’absence de votre part. \nLe payement s’effectue sur place lors du premier cours (ou par virement sur le compte BE26 0635 0474 8629 au plus tard trois jours avant le début du groupe – communication « Groupe du mercredi »). \nNous avons un système spécial pour les parents qui ont leurs enfants en garde alternée (cliquer ici pour les détails). \n– Avec Anne-Mieke Haazen et Michel Wéry.  \n  \n  \n			\n			\n				\n				\n				\n				\n				\n				\n				\n				\n				\n				\n				\n				\n				\n				\n				\n				\n			\n			\n				\n				\n				\n				\n			\n			\n				\n				\n			\n				\n				\n				\n				\n				\n				\n				\n				\n				\n				\n				\n				\n				\n				\n				\n				\n				\n				Inscription\n			\n				\n				\n				\n				\n				\n	Remarque : JavaScript est requis pour ce contenu.\nAucun champ trouvé.
URL:https://www.dancetribe.be/event/groupe-regulier-mercredi-13/
LOCATION:Louvain-la-Neuve
CATEGORIES:Groupes réguliers
END:VEVENT
BEGIN:VEVENT
DTSTART;TZID=Europe/Paris:20220523T193000
DTEND;TZID=Europe/Paris:20220523T220000
DTSTAMP:20260421T232710
CREATED:20220311T125631Z
LAST-MODIFIED:20220311T125726Z
UID:7038-1653334200-1653343200@www.dancetribe.be
SUMMARY:Groupe régulier lundi
DESCRIPTION:Groupe régulier du lundi – Moving with Change\n			\n			\n				\n				\n				\n				\n			\n				\n				\n				\n				\n				\n				\n				\n				\n				\n				\n				\n			\n			\n				\n				\n				\n				\n			\n				\n				\n				\n				\n				\n				\n				\n				\n				\n				\n				\n			\n			\n				\n				\n				\n				\n			\n				\n				\n				\n				\n				\n				\n				\n				\n				\n				\n				Thème de ce groupe: alors que le monde change autour de nous de manière parfois chaotique\, nous sommes appelés à danser plus profondément pour développer notre centrage et notre enracinement\, notre capacité de résilience et notre force\, notre joie de vivre et notre créativité. \nNous t’invitons à pratiquer les 5 rythmes régulièrement\, en dansant dans un groupe qui évolue ensemble et qui se retrouve de semaine en semaine. \n			\n			\n				\n				\n				\n				\n				\n				\n				\n				\n				\n				Quel que soit notre état présent\, nous aurons rendez-vous avec la danse et avec la communauté\, pour découvrir les mille-et-une manières dont la danse nous transforme. Nous utiliserons des outils simples et puissants pour devenir plus nous aligner: corps\, coeur et esprit. \nDans le même bateau\, nous recevons et offrons du soutien\, et nous encourageons à prendre des risques et à grandir\, dans un cadre de confiance. Bienvenue à toi. \n			\n			\n				\n				\n				\n				\n			\n				\n				\n			\n				\n				\n				\n				\n				\n				\n				\n				\n				\n				\n				\n				\n				\n				\n				\n				\n				Modalités\n			\n				\n				\n				\n				\n				– Pour qui : pour tou(te)s\, quelle que soit l’expérience et la condition physique. Si c’est la première fois que vous venez danser les 5 rythmes\, nous vous invitons à lire ceci. \n– Dates : les lundi 2\, 9\, 23\, 30 mai\, et les 13\, 20 et 27 juin 2022\, de 19H30 à 22H. Merci d’arriver à 19H15-20 pour démarrer à temps. \n– Lieu : Dans une belle grande salle toute en plancher située avenue Léopold Wiener n°32 à 1170 Boitsfort. La salle est très spacieuse\, très haute de plafond\, et sera bien ventilée. \nSituée à 12min à pied du métro Beaulieu\, des bus n°17\, 41 et 95 (arrêt Keym)\, et de la gare de Watermael. Villo le plus proche: station n°345 (3 Tilleuls). \n– Prix : 130 € pour 8 séances: les 7 séances mentionnées plus haut + 1 soirée ouverte au choix (valable 3 mois à partir du début du groupe). \nCe prix représente une réduction de 20% par rapport aux soirées ouvertes\, et compense donc près de 2 soirées que vous pourriez éventuellement manquer. Il n’y a pas d’autre compensation possible en cas d’absence de votre part. \nLe payement s’effectue sur place lors du premier cours (ou par virement sur le compte BE26 0635 0474 8629 au plus tard trois jours avant le début du groupe – communication « Groupe du mercredi »). \nNous avons un système spécial pour les parents qui ont leurs enfants en garde alternée (cliquer pour les détails). \n– Avec Anne-Mieke Haazen et Michel Wéry.  \n  \n  \n			\n			\n				\n				\n				\n				\n				\n				\n				\n				\n				\n				\n				\n				\n				\n				\n				\n				\n			\n			\n				\n				\n				\n				\n			\n			\n				\n				\n			\n				\n				\n				\n				\n				\n				\n				\n				\n				\n				\n				\n				\n				\n				\n				\n				\n				\n				Inscription\n			\n				\n				\n				\n				\n				\n	Remarque : JavaScript est requis pour ce contenu.\nAucun champ trouvé.
URL:https://www.dancetribe.be/event/groupe-regulier-lundi-14/
LOCATION:Boitsfort\, avenue Léopold Wiener 32\, Bruxelles\, 1170\, Belgique
CATEGORIES:Groupes réguliers
END:VEVENT
BEGIN:VEVENT
DTSTART;TZID=Europe/Paris:20220527T193000
DTEND;TZID=Europe/Paris:20220527T220000
DTSTAMP:20260421T232710
CREATED:20220311T140056Z
LAST-MODIFIED:20220505T105937Z
UID:7123-1653679800-1653688800@www.dancetribe.be
SUMMARY:Soirée ouverte
DESCRIPTION:Soirée ouverte\n			\n			\n				\n				\n				\n				\n			\n				\n				\n				\n				\n				\n				\n				\n				\n				\n				\n				Qu’est-ce que c’est: Les soirées ouvertes sont accessibles à tou(te)s\, quelle que soit votre expérience. Si c’est la première fois que vous venez danser les 5 rythmes\, nous vous invitons simplement à lire ceci\, pour entrer plus facilement dans le bain. Bienvenue ! \nPour qui: Pour tou(te)s\, débutants compris. \nQuand: le vendredi 27 mai. Accueil à 19H20. Cours de 19H30 à 22H. \nLieu: rue du Collège 2 à 1348 Louvain-La-Neuve. À partir du parking de la Ferme du Biéreau\, marcher 50m en direction du centre-ville puis entrer à droite dans l’école maternelle. \nPrix: 20 €\, payables sur place. 16 € pour les personnes au CPAS. \nInscription: Il n’est pas nécessaire de s’inscrire; venez simplement sur place. \nAvec Anne-Mieke Haazen.
URL:https://www.dancetribe.be/event/soiree-ouverte-38/
LOCATION:Louvain-la-Neuve
CATEGORIES:Soirées ouvertes
END:VEVENT
BEGIN:VEVENT
DTSTART;TZID=Europe/Paris:20220530T193000
DTEND;TZID=Europe/Paris:20220530T220000
DTSTAMP:20260421T232710
CREATED:20220311T130013Z
LAST-MODIFIED:20220311T130106Z
UID:7044-1653939000-1653948000@www.dancetribe.be
SUMMARY:Groupe régulier lundi
DESCRIPTION:Groupe régulier du lundi – Moving with Change\n			\n			\n				\n				\n				\n				\n			\n				\n				\n				\n				\n				\n				\n				\n				\n				\n				\n				\n			\n			\n				\n				\n				\n				\n			\n				\n				\n				\n				\n				\n				\n				\n				\n				\n				\n				\n			\n			\n				\n				\n				\n				\n			\n				\n				\n				\n				\n				\n				\n				\n				\n				\n				\n				Thème de ce groupe: alors que le monde change autour de nous de manière parfois chaotique\, nous sommes appelés à danser plus profondément pour développer notre centrage et notre enracinement\, notre capacité de résilience et notre force\, notre joie de vivre et notre créativité. \nNous t’invitons à pratiquer les 5 rythmes régulièrement\, en dansant dans un groupe qui évolue ensemble et qui se retrouve de semaine en semaine. \n			\n			\n				\n				\n				\n				\n				\n				\n				\n				\n				\n				Quel que soit notre état présent\, nous aurons rendez-vous avec la danse et avec la communauté\, pour découvrir les mille-et-une manières dont la danse nous transforme. Nous utiliserons des outils simples et puissants pour devenir plus nous aligner: corps\, coeur et esprit. \nDans le même bateau\, nous recevons et offrons du soutien\, et nous encourageons à prendre des risques et à grandir\, dans un cadre de confiance. Bienvenue à toi. \n			\n			\n				\n				\n				\n				\n			\n				\n				\n			\n				\n				\n				\n				\n				\n				\n				\n				\n				\n				\n				\n				\n				\n				\n				\n				\n				Modalités\n			\n				\n				\n				\n				\n				– Pour qui : pour tou(te)s\, quelle que soit l’expérience et la condition physique. Si c’est la première fois que vous venez danser les 5 rythmes\, nous vous invitons à lire ceci. \n– Dates : les lundi 2\, 9\, 23\, 30 mai\, et les 13\, 20 et 27 juin 2022\, de 19H30 à 22H. Merci d’arriver à 19H15-20 pour démarrer à temps. \n– Lieu : Dans une belle grande salle toute en plancher située avenue Léopold Wiener n°32 à 1170 Boitsfort. La salle est très spacieuse\, très haute de plafond\, et sera bien ventilée. \nSituée à 12min à pied du métro Beaulieu\, des bus n°17\, 41 et 95 (arrêt Keym)\, et de la gare de Watermael. Villo le plus proche: station n°345 (3 Tilleuls). \n– Prix : 130 € pour 8 séances: les 7 séances mentionnées plus haut + 1 soirée ouverte au choix (valable 3 mois à partir du début du groupe). \nCe prix représente une réduction de 20% par rapport aux soirées ouvertes\, et compense donc près de 2 soirées que vous pourriez éventuellement manquer. Il n’y a pas d’autre compensation possible en cas d’absence de votre part. \nLe payement s’effectue sur place lors du premier cours (ou par virement sur le compte BE26 0635 0474 8629 au plus tard trois jours avant le début du groupe – communication « Groupe du mercredi »). \nNous avons un système spécial pour les parents qui ont leurs enfants en garde alternée (cliquer pour les détails). \n– Avec Anne-Mieke Haazen et Michel Wéry.  \n  \n  \n			\n			\n				\n				\n				\n				\n				\n				\n				\n				\n				\n				\n				\n				\n				\n				\n				\n				\n			\n			\n				\n				\n				\n				\n			\n			\n				\n				\n			\n				\n				\n				\n				\n				\n				\n				\n				\n				\n				\n				\n				\n				\n				\n				\n				\n				\n				Inscription\n			\n				\n				\n				\n				\n				\n	Remarque : JavaScript est requis pour ce contenu.\nAucun champ trouvé.
URL:https://www.dancetribe.be/event/groupe-regulier-lundi-15/
LOCATION:Boitsfort\, avenue Léopold Wiener 32\, Bruxelles\, 1170\, Belgique
CATEGORIES:Groupes réguliers
END:VEVENT
END:VCALENDAR