BEGIN:VCALENDAR
VERSION:2.0
PRODID:-//dancetribe.be - ECPv6.15.20//NONSGML v1.0//EN
CALSCALE:GREGORIAN
METHOD:PUBLISH
X-ORIGINAL-URL:https://www.dancetribe.be
X-WR-CALDESC:Évènements pour dancetribe.be
REFRESH-INTERVAL;VALUE=DURATION:PT1H
X-Robots-Tag:noindex
X-PUBLISHED-TTL:PT1H
BEGIN:VTIMEZONE
TZID:Europe/Paris
BEGIN:DAYLIGHT
TZOFFSETFROM:+0100
TZOFFSETTO:+0200
TZNAME:CEST
DTSTART:20210328T010000
END:DAYLIGHT
BEGIN:STANDARD
TZOFFSETFROM:+0200
TZOFFSETTO:+0100
TZNAME:CET
DTSTART:20211031T010000
END:STANDARD
BEGIN:DAYLIGHT
TZOFFSETFROM:+0100
TZOFFSETTO:+0200
TZNAME:CEST
DTSTART:20220327T010000
END:DAYLIGHT
BEGIN:STANDARD
TZOFFSETFROM:+0200
TZOFFSETTO:+0100
TZNAME:CET
DTSTART:20221030T010000
END:STANDARD
BEGIN:DAYLIGHT
TZOFFSETFROM:+0100
TZOFFSETTO:+0200
TZNAME:CEST
DTSTART:20230326T010000
END:DAYLIGHT
BEGIN:STANDARD
TZOFFSETFROM:+0200
TZOFFSETTO:+0100
TZNAME:CET
DTSTART:20231029T010000
END:STANDARD
END:VTIMEZONE
BEGIN:VEVENT
DTSTART;TZID=Europe/Paris:20220110T193000
DTEND;TZID=Europe/Paris:20220110T220000
DTSTAMP:20260422T044535
CREATED:20211021T150011Z
LAST-MODIFIED:20211214T152742Z
UID:6541-1641843000-1641852000@www.dancetribe.be
SUMMARY:Soirée ouverte
DESCRIPTION:Soirée ouverte\n			\n			\n				\n				\n				\n				\n			\n				\n				\n				\n				\n				\n				\n				\n				\n				\n				\n				Qu’est-ce que c’est: Les soirées ouvertes sont accessibles à tou(te)s\, quelle que soit votre expérience. Si c’est la première fois que vous venez danser les 5 rythmes\, nous vous invitons simplement à lire ceci\, pour entrer plus facilement dans le bain. Bienvenue ! \nPour qui: Pour tou(te)s\, débutants compris. \nQuand: le lundi 10 janvier. Accueil à 19H15. Cours de 19H30 à 22H. Merci d’être ponctuels. \nLieu: Dans une belle grande salle toute en plancher située avenue Léopold Wiener n°32 à 1170 Boitsfort. La salle est très spacieuse\, très haute de plafond\, et sera bien ventilée. \nSituée à 12min à pied du métro Beaulieu\, des bus n°17\, 41 et 95 (arrêt Keym)\, et de la gare de Watermael. Villo le plus proche: station n°345 (3 Tilleuls). \nPrix: 20 €\, payables sur place. 16 € pour les personnes au CPAS. \nInscription: Il n’est pas nécessaire de s’inscrire; venez simplement sur place. \nAvec Michel Wéry
URL:https://www.dancetribe.be/event/soiree-ouverte-29/
LOCATION:Boitsfort\, avenue Léopold Wiener 32\, Bruxelles\, 1170\, Belgique
CATEGORIES:Soirées ouvertes
ORGANIZER;CN="Michel W%C3%A9ry":MAILTO:michel@dancetribe.be
END:VEVENT
BEGIN:VEVENT
DTSTART;TZID=Europe/Paris:20220112T073000
DTEND;TZID=Europe/Paris:20220112T220000
DTSTAMP:20260422T044535
CREATED:20211021T145952Z
LAST-MODIFIED:20220102T121219Z
UID:6546-1641972600-1642024800@www.dancetribe.be
SUMMARY:Soirée ouverte
DESCRIPTION:Soirée ouverte\n			\n			\n				\n				\n				\n				\n			\n				\n				\n				\n				\n				\n				\n				\n				\n				\n				\n				Qu’est-ce que c’est: Les soirées ouvertes sont accessibles à tou(te)s\, quelle que soit votre expérience. Si c’est la première fois que vous venez danser les 5 rythmes\, nous vous invitons simplement à lire ceci\, pour entrer plus facilement dans le bain. Bienvenue ! \nPour qui: Pour tou(te)s\, débutants compris. \nQuand: le mercredi 12 janvier. Accueil à 19H20. Cours de 19H30 à 22H. \nLieu: rue du Collège 2 à 1348 Louvain-La-Neuve. À partir du parking de la Ferme du Biéreau\, marcher 50m en direction du centre-ville puis entrer à droite dans l’école maternelle. \nPrix: 20 €\, payables sur place. 16 € pour les personnes au CPAS. \nInscription: Il n’est pas nécessaire de s’inscrire; venez simplement sur place. \nAvec Anne-Mieke ou Michel Wéry.
URL:https://www.dancetribe.be/event/soiree-ouverte-28/
LOCATION:Louvain-la-Neuve
CATEGORIES:Soirées ouvertes
ORGANIZER;CN="Michel W%C3%A9ry":MAILTO:michel@dancetribe.be
END:VEVENT
BEGIN:VEVENT
DTSTART;TZID=Europe/Paris:20220117T193000
DTEND;TZID=Europe/Paris:20220117T220000
DTSTAMP:20260422T044535
CREATED:20211201T161846Z
LAST-MODIFIED:20220102T121932Z
UID:6598-1642447800-1642456800@www.dancetribe.be
SUMMARY:Soirée ouverte (WAW)
DESCRIPTION:Soirée Wave after Wave\n			\n			\n				\n				\n				\n				\n			\n				\n				\n				\n				\n				\n				\n				\n				\n				\n				\n				« You can’t stop the waves\, but you can learn to surf. »J. Kabat-Zinn \n\nQu’est-ce que c’est: Lors de cette soirée ouverte à tou(te)s\, Anne-Mieke nous fera traverser deux « vagues »\, çàd deux séquences de 5 rythmes. La première sera guidée\, en explorant un thème spécifique (par exemple le lâcher-prise\, ou autre). Ensuite\, à partir de la qualité de présence et de la profondeur acquises\, nous plongerons librement dans une deuxième vague\, non guidée cette fois.  \nSi c’est la première fois que vous venez danser les 5 rythmes\, nous vous invitons simplement à lire ceci\, pour entrer plus facilement dans le bain. Bienvenue ! \nPour qui: Pour tou(te)s\, débutants compris. \nQuand: le lundi 17 janvier. Accueil à 19H20. Cours de 19H30 à 22H. \nLieu: Dans une belle grande salle toute en plancher située avenue Léopold Wiener n°32 à 1170 Boitsfort. La salle est très spacieuse\, très haute de plafond\, et sera bien ventilée. \nSituée à 12min à pied du métro Beaulieu\, des bus n°17\, 41 et 95 (arrêt Keym)\, et de la gare de Watermael. Villo le plus proche: station n°345 (3 Tilleuls). \nPrix: 20 €\, payables sur place. 16 € pour les personnes au CPAS. \nInscription: Il n’est pas nécessaire de s’inscrire; venez simplement sur place. \nAvec Anne-Mieke.
URL:https://www.dancetribe.be/event/soiree-ouverte-26/
LOCATION:Boitsfort\, avenue Léopold Wiener 32\, Bruxelles\, 1170\, Belgique
CATEGORIES:Soirées ouvertes
END:VEVENT
BEGIN:VEVENT
DTSTART;TZID=Europe/Paris:20220119T193000
DTEND;TZID=Europe/Paris:20220119T193000
DTSTAMP:20260422T044535
CREATED:20220102T120627Z
LAST-MODIFIED:20220102T120631Z
UID:6664-1642620600-1642620600@www.dancetribe.be
SUMMARY:Soirée ouverte
DESCRIPTION:Soirée ouverte\n			\n			\n				\n				\n				\n				\n			\n				\n				\n				\n				\n				\n				\n				\n				\n				\n				\n				Qu’est-ce que c’est: Les soirées ouvertes sont accessibles à tou(te)s\, quelle que soit votre expérience. Si c’est la première fois que vous venez danser les 5 rythmes\, nous vous invitons simplement à lire ceci\, pour entrer plus facilement dans le bain. Bienvenue ! \nPour qui: Pour tou(te)s\, débutants compris. \nQuand: le mercredi 19 janvier. Accueil à 19H20. Cours de 19H30 à 22H. \nLieu: rue du Collège 2 à 1348 Louvain-La-Neuve. À partir du parking de la Ferme du Biéreau\, marcher 50m en direction du centre-ville puis entrer à droite dans l’école maternelle. \nPrix: 20 €\, payables sur place. 16 € pour les personnes au CPAS. \nInscription: Il n’est pas nécessaire de s’inscrire; venez simplement sur place. \nAvec Anne-Mieke.
URL:https://www.dancetribe.be/event/soiree-ouverte-30/
LOCATION:Louvain-la-Neuve
CATEGORIES:Soirées ouvertes
END:VEVENT
BEGIN:VEVENT
DTSTART;TZID=Europe/Paris:20220124T193000
DTEND;TZID=Europe/Paris:20220124T220000
DTSTAMP:20260422T044535
CREATED:20220102T121108Z
LAST-MODIFIED:20220102T121108Z
UID:6670-1643052600-1643061600@www.dancetribe.be
SUMMARY:Soirée ouverte
DESCRIPTION:Soirée ouverte\n			\n			\n				\n				\n				\n				\n			\n				\n				\n				\n				\n				\n				\n				\n				\n				\n				\n				Qu’est-ce que c’est: Les soirées ouvertes sont accessibles à tou(te)s\, quelle que soit votre expérience. Si c’est la première fois que vous venez danser les 5 rythmes\, nous vous invitons simplement à lire ceci\, pour entrer plus facilement dans le bain. Bienvenue ! \nPour qui: Pour tou(te)s\, débutants compris. \nQuand: le lundi 24 janvier. Accueil à 19H15. Cours de 19H30 à 22H. Merci d’être ponctuels. \nLieu: Dans une belle grande salle toute en plancher située avenue Léopold Wiener n°32 à 1170 Boitsfort. La salle est très spacieuse\, très haute de plafond\, et sera bien ventilée. \nSituée à 12min à pied du métro Beaulieu\, des bus n°17\, 41 et 95 (arrêt Keym)\, et de la gare de Watermael. Villo le plus proche: station n°345 (3 Tilleuls). \nPrix: 20 €\, payables sur place. 16 € pour les personnes au CPAS. \nInscription: Il n’est pas nécessaire de s’inscrire; venez simplement sur place. \nAvec Michel Wéry
URL:https://www.dancetribe.be/event/soiree-ouverte-31/
LOCATION:Boitsfort\, avenue Léopold Wiener 32\, Bruxelles\, 1170\, Belgique
CATEGORIES:Soirées ouvertes
ORGANIZER;CN="Michel W%C3%A9ry":MAILTO:michel@dancetribe.be
END:VEVENT
BEGIN:VEVENT
DTSTART;TZID=Europe/Paris:20220126T193000
DTEND;TZID=Europe/Paris:20220126T220000
DTSTAMP:20260422T044535
CREATED:20220102T154445Z
LAST-MODIFIED:20220125T140203Z
UID:6723-1643225400-1643234400@www.dancetribe.be
SUMMARY:DEMARRAGE GROUPE MERCREDI
DESCRIPTION:Groupe régulier du mercredi – Moving with Change\n			\n			\n				\n				\n				\n				\n			\n				\n				\n				\n				\n				\n				\n				\n				\n				\n				\n				\n			\n			\n				\n				\n				\n				\n			\n				\n				\n				\n				\n				\n				\n				\n				\n				\n				\n				\n			\n			\n				\n				\n				\n				\n			\n				\n				\n				\n				\n				\n				\n				\n				\n				\n				\n				Thème de ce groupe: alors que le monde change autour de nous de manière parfois chaotique\, nous sommes appelés à danser plus profondément pour développer notre centrage et notre enracinement\, notre capacité de résilience et notre force\, notre joie de vivre et notre créativité. \nNous t’invitons à pratiquer les 5 rythmes régulièrement\, en dansant dans un groupe qui évolue ensemble et qui se retrouve de semaine en semaine. \n			\n			\n				\n				\n				\n				\n				\n				\n				\n				\n				\n				Quel que soit notre état présent\, nous aurons rendez-vous avec la danse et avec la communauté\, pour découvrir les mille-et-une manières dont la danse nous transforme. Nous utiliserons des outils simples et puissants pour devenir plus nous aligner: corps\, coeur et esprit. \nDans le même bateau\, nous recevons et offrons du soutien\, et nous encourageons à prendre des risques et à grandir\, dans un cadre de confiance. Bienvenue à toi. \n			\n			\n				\n				\n				\n				\n			\n				\n				\n			\n				\n				\n				\n				\n				\n				\n				\n				\n				\n				\n				\n				\n				\n				\n				\n				\n				Modalités\n			\n				\n				\n				\n				\n				– Pour qui : pour tou(te)s\, quelle que soit l’expérience et la condition physique. Si c’est la première fois que vous venez danser les 5 rythmes\, nous vous invitons à lire ceci. \n– Dates : les mercredi 26 janvier\, 2\, 16\, 23 février et les 9 et 16  mars 2022\, de 19H30 à 22H. Merci d’arriver vers 19H15 pour démarrer à temps. \nSi jamais le groupe devait être arrêté pour cause de normes gouvernementales\, on vous offrira le moyen de récupérer le nombre de soirées manquées en soirées ouvertes. \n– Lieu : Ecole maternelle située rue du Collège 2 à 1348 Louvain-La-Neuve. Depuis le parking de la Ferme du Biéreau\, c’est le premier bâtiment sur la droite lorsque vous marchez en direction du centre-ville. \n– Prix : 120 € pour les 6+1 séances; vous recevez un bon pour une soirée ouverte gratuite\, en compensation forfaitaire des soirées du groupe que vous pourriez éventuellement manquer. Le payement s’effectue sur place lors du premier cours (ou par virement sur le compte BE26 0635 0474 8629 au plus tard trois jours avant le début du groupe – communication « Groupe du mercredi »). \nNous avons un système spécial pour les parents qui ont leurs enfants en garde alternée (cliquer ici pour les détails). \n– Prévention corona:– Le groupe est limité (50 personnes max.).– La salle est bien ventilée.– Il y a du gel désinfectant sur place.– Le port du masque n’est pas obligatoire (mais bienvenu). \n– Avec Anne-Mieke Haazen et Michel Wéry.  \n  \n  \n			\n			\n				\n				\n				\n				\n				\n				\n				\n				\n				\n				\n				\n				\n				\n				\n				\n				\n			\n			\n				\n				\n				\n				\n			\n			\n				\n				\n			\n				\n				\n				\n				\n				\n				\n				\n				\n				\n				\n				\n				\n				\n				\n				\n				\n				\n				Inscription\n			\n				\n				\n				\n				\n				\n	Remarque : JavaScript est requis pour ce contenu.\nAucun champ trouvé.
URL:https://www.dancetribe.be/event/demarrage-groupe-mercredi-3/
LOCATION:Louvain-la-Neuve
CATEGORIES:Groupes réguliers
END:VEVENT
BEGIN:VEVENT
DTSTART;TZID=Europe/Paris:20220131T193000
DTEND;TZID=Europe/Paris:20220131T220000
DTSTAMP:20260422T044535
CREATED:20220102T154409Z
LAST-MODIFIED:20220311T111733Z
UID:6738-1643657400-1643666400@www.dancetribe.be
SUMMARY:DEMARRAGE GROUPE LUNDI
DESCRIPTION:Groupe régulier du lundi – Moving with Change\n			\n			\n				\n				\n				\n				\n			\n				\n				\n				\n				\n				\n				\n				\n				\n				\n				\n				\n			\n			\n				\n				\n				\n				\n			\n				\n				\n				\n				\n				\n				\n				\n				\n				\n				\n				\n			\n			\n				\n				\n				\n				\n			\n				\n				\n				\n				\n				\n				\n				\n				\n				\n				\n				Thème de ce groupe: alors que le monde change autour de nous de manière parfois chaotique\, nous sommes appelés à danser plus profondément pour développer notre centrage et notre enracinement\, notre capacité de résilience et notre force\, notre joie de vivre et notre créativité. \nNous t’invitons à pratiquer les 5 rythmes régulièrement\, en dansant dans un groupe qui évolue ensemble et qui se retrouve de semaine en semaine. \n			\n			\n				\n				\n				\n				\n				\n				\n				\n				\n				\n				Quel que soit notre état présent\, nous aurons rendez-vous avec la danse et avec la communauté\, pour découvrir les mille-et-une manières dont la danse nous transforme. Nous utiliserons des outils simples et puissants pour devenir plus nous aligner: corps\, coeur et esprit. \nDans le même bateau\, nous recevons et offrons du soutien\, et nous encourageons à prendre des risques et à grandir\, dans un cadre de confiance. Bienvenue à toi. \n			\n			\n				\n				\n				\n				\n			\n				\n				\n			\n				\n				\n				\n				\n				\n				\n				\n				\n				\n				\n				\n				\n				\n				\n				\n				\n				Modalités\n			\n				\n				\n				\n				\n				– Pour qui : pour tou(te)s\, quelle que soit l’expérience et la condition physique. Si c’est la première fois que vous venez danser les 5 rythmes\, nous vous invitons à lire ceci. \n– Dates : les lundi 31 janvier\, 7\, 14 et 21 février et les 7\, 14 mars 2022\, de 19H30 à 22H. Merci d’arriver à 19H15-20 pour démarrer à temps. \nSi jamais le groupe devait être arrêté pour cause de normes gouvernementales\, on vous offrira le moyen de récupérer le nombre de soirées manquées en soirées ouvertes. \n– Lieu : Dans une belle grande salle toute en plancher située avenue Léopold Wiener n°32 à 1170 Boitsfort. La salle est très spacieuse\, très haute de plafond\, et sera bien ventilée. \nSituée à 12min à pied du métro Beaulieu\, des bus n°17\, 41 et 95 (arrêt Keym)\, et de la gare de Watermael. Villo le plus proche: station n°345 (3 Tilleuls). \n– Prix : 130 € pour 8 séances: les 7 séances mentionnées plus haut + 1 soirée ouverte valable 3 mois. \nCe prix représente une réduction de 20% par rapport aux soirées ouvertes\, et compense donc près de 2 soirées que vous pourriez éventuellement manquer. Il n’y a pas d’autre compensation possible en cas d’absence de votre part. \nLe payement s’effectue de préférence sur place lors du premier cours (ou par virement sur le compte BE26 0635 0474 8629 au plus tard trois jours avant le début du groupe – communication « Groupe du mercredi »). \nNous avons un système spécial pour les parents qui ont leurs enfants en garde alternée (cliquer pour les détails). \n– Prévention corona:– Le groupe est limité (50 personnes max.).– La salle est bien ventilée.– Il y a du gel désinfectant sur place.– Le port du masque n’est pas obligatoire (mais bienvenu). \n– Avec Anne-Mieke Haazen et Michel Wéry.  \n  \n  \n			\n			\n				\n				\n				\n				\n				\n				\n				\n				\n				\n				\n				\n				\n				\n				\n				\n				\n			\n			\n				\n				\n				\n				\n			\n			\n				\n				\n			\n				\n				\n				\n				\n				\n				\n				\n				\n				\n				\n				\n				\n				\n				\n				\n				\n				\n				Inscription\n			\n				\n				\n				\n				\n				\n	Remarque : JavaScript est requis pour ce contenu.\nAucun champ trouvé.
URL:https://www.dancetribe.be/event/demarrage-groupe-lundi-3/
LOCATION:Boitsfort\, avenue Léopold Wiener 32\, Bruxelles\, 1170\, Belgique
CATEGORIES:Groupes réguliers
END:VEVENT
END:VCALENDAR