BEGIN:VCALENDAR
VERSION:2.0
PRODID:-//dancetribe.be - ECPv6.15.20//NONSGML v1.0//EN
CALSCALE:GREGORIAN
METHOD:PUBLISH
X-ORIGINAL-URL:https://www.dancetribe.be
X-WR-CALDESC:Évènements pour dancetribe.be
REFRESH-INTERVAL;VALUE=DURATION:PT1H
X-Robots-Tag:noindex
X-PUBLISHED-TTL:PT1H
BEGIN:VTIMEZONE
TZID:Europe/Paris
BEGIN:DAYLIGHT
TZOFFSETFROM:+0100
TZOFFSETTO:+0200
TZNAME:CEST
DTSTART:20200329T010000
END:DAYLIGHT
BEGIN:STANDARD
TZOFFSETFROM:+0200
TZOFFSETTO:+0100
TZNAME:CET
DTSTART:20201025T010000
END:STANDARD
BEGIN:DAYLIGHT
TZOFFSETFROM:+0100
TZOFFSETTO:+0200
TZNAME:CEST
DTSTART:20210328T010000
END:DAYLIGHT
BEGIN:STANDARD
TZOFFSETFROM:+0200
TZOFFSETTO:+0100
TZNAME:CET
DTSTART:20211031T010000
END:STANDARD
BEGIN:DAYLIGHT
TZOFFSETFROM:+0100
TZOFFSETTO:+0200
TZNAME:CEST
DTSTART:20220327T010000
END:DAYLIGHT
BEGIN:STANDARD
TZOFFSETFROM:+0200
TZOFFSETTO:+0100
TZNAME:CET
DTSTART:20221030T010000
END:STANDARD
END:VTIMEZONE
BEGIN:VEVENT
DTSTART;TZID=Europe/Paris:20211004T080000
DTEND;TZID=Europe/Paris:20211004T170000
DTSTAMP:20260422T090444
CREATED:20210828T132504Z
LAST-MODIFIED:20210828T132622Z
UID:6174-1633334400-1633366800@www.dancetribe.be
SUMMARY:Groupe régulier lundi
DESCRIPTION:Groupe régulier du lundi\n			\n			\n				\n				\n				\n				\n			\n				\n				\n				\n				\n				\n				\n				\n				\n				\n				\n				Hands on your back\n			\n			\n				\n				\n				\n				\n			\n				\n				\n				\n				\n				\n				\n				\n				\n				\n				\n				\n			\n			\n				\n				\n				\n				\n			\n				\n				\n				\n				\n				\n				\n				\n				\n				\n				\n				Nous t’invitons à une pratique régulière dans un  groupe solidaire\, qui évolue ensemble. Cette formule permet d’approfondir de nombreux aspects de notre pratique\, et de l’enraciner plus facilement dans notre quotidien. \nDans ‘Hands on your back’\, nous allons spécifiquement explorer le thème du soutien: en recevoir (car il est toujours disponible\, sous beaucoup de formes)\, en offrir aux autres\, et nous encourager mutuellement grandir\, dans un cadre de confiance. \n			\n			\n				\n				\n				\n				\n				\n				\n				\n				\n				\n				Cet espace permet de soutenir le travail personnel de chacun\, ET nous sommes aussi une tribu de belles personnes en marche. Bienvenue à toi pour apporter ta couleur. \nPour lancer le groupe dans un travail approfondi\, il y a une journée de stage le dimanche 19/09. Cette journée est recommandée mais optionnelle\, en complément du groupe. Elle permettra de plonger en profondeur dans le thème\, et de renforcer les liens entre nous. \n			\n			\n				\n				\n				\n				\n			\n				\n				\n			\n				\n				\n				\n				\n				\n				\n				\n				\n				\n				\n				\n				\n				\n				\n				\n				\n				Modalités\n			\n				\n				\n				\n				\n				– Pour qui : pour tou(te)s\, quelle que soit l’expérience et la condition physique. Si c’est la première fois que vous venez danser les 5 rythmes\, nous vous invitons à lire ceci. \n– Dates : les lundi 20 et 27 septembre et les 4\, 11 et 18 octobre 2021\, de 19H30 à 22H. Merci d’arriver à 19H15-20. \n– Lieu : dans une belle salle avec plancher située avenue Léopold Wiener n°32 à 1170 Boitsfort. À 12 minutes à pied de la gare de Watermael\, du métro Beaulieu et des bus n°17\, 41 et 95 (arrêt Keym). \n– Prix : 100 € pour les 5+1 séances; vous recevez un bon pour une soirée ouverte gratuite\, en compensation des soirées du groupe que vous pourriez éventuellement manquer. Le payement s’effectue sur place lors du premier cours\, ou par virement sur le compte BE26 0635 0474 8629 au plus tard trois jours avant le début du groupe – communication « Groupe du lundi »). \n– Prévention corona:    – Le groupe est limité (50 personnes max.).   – La salle est très grande et bien ventilée.   – Il y a du gel désinfectant sur place.  – Le port du masque n’est pas obligatoire (mais bienvenu). \n– Avec Anne-Mieke Haazen. Formée et accréditée par Gabrielle Roth\, Anne-Mieke enseigne intensivement les 5 rythmes depuis 13 ans. Chaleureuse\, authentique et inspirante\, elle guide les personne en liaison profonde avec son identité de femme. Elle enseigne également la pratique Open Floor et l‘art-thérapie. \n \n \n			\n			\n				\n				\n				\n				\n				\n				\n				\n				\n				\n				\n				\n				\n				\n				\n				\n				\n			\n			\n				\n				\n				\n				\n			\n			\n				\n				\n			\n				\n				\n				\n				\n				\n				\n				\n				\n				\n				\n				\n				\n				\n				\n				\n				\n				\n				\n				\n					Avec enracinement et passion\, j’aime guider les personnes vers la sagesse et la liberté qui vivent en chacun de nous. Ma manière d’enseigner est spontanée\, inspirée et chaleureuse. \n					Anne-Mieke\n					 \n				\n			\n				\n				\n				\n				\n				Inscription\n			\n				\n				\n				\n				\n				\n	Remarque : JavaScript est requis pour ce contenu.\nAucun champ trouvé.
URL:https://www.dancetribe.be/event/groupe-regulier-lundi/
LOCATION:Boitsfort\, avenue Léopold Wiener 32\, Bruxelles\, 1170\, Belgique
CATEGORIES:Groupes réguliers
END:VEVENT
BEGIN:VEVENT
DTSTART;TZID=Europe/Paris:20211006T080000
DTEND;TZID=Europe/Paris:20211006T170000
DTSTAMP:20260422T090444
CREATED:20210828T142118Z
LAST-MODIFIED:20210831T104226Z
UID:6195-1633507200-1633539600@www.dancetribe.be
SUMMARY:Groupe régulier mercredi
DESCRIPTION:Groupe régulier du mercredi\n			\n			\n				\n				\n				\n				\n			\n				\n				\n				\n				\n				\n				\n				\n				\n				\n				\n				\n			\n			\n				\n				\n				\n				\n			\n				\n				\n				\n				\n				\n				\n				\n				\n				\n				\n				\n			\n			\n				\n				\n				\n				\n			\n				\n				\n				\n				\n				\n				\n				\n				\n				\n				\n				Nous t’invitons à pratiquer les 5 rythmes régulièrement\, en dansant dans un groupe qui évolue ensemble et qui se retrouve de semaine en semaine. Quel que soit notre état présent\, nous aurons rendez-vous avec la danse et avec la communauté\, pour découvrir les mille-et-une manières dont la danse nous transforme\, et en utilisant des outils simples et puissants pour devenir plus enracinées dans notre corps\, notre coeur et notre esprit. \n			\n			\n				\n				\n				\n				\n				\n				\n				\n				\n				\n				Dans le même bateau\, nous recevons et offrons du soutien\, et nous encourageons à prendre des risques et à grandir\, dans un cadre de confiance. Bienvenue à toi pour apporter ta couleur. \n			\n			\n				\n				\n				\n				\n			\n				\n				\n			\n				\n				\n				\n				\n				\n				\n				\n				\n				\n				\n				\n				\n				\n				\n				\n				\n				Modalités\n			\n				\n				\n				\n				\n				– Pour qui : pour tou(te)s\, quelle que soit l’expérience et la condition physique. Si c’est la première fois que vous venez danser les 5 rythmes\, nous vous invitons à lire ceci. \n– Dates : les mercredi 22 et 29 septembre\, et les 6\, 13 et 20 octobre 2021\, de 19H30 à 22H. Merci d’arriver à 19H15-20 pour démarrer à temps. \n– Lieu : Ecole maternelle située rue du Collège 2 à 1348 Louvain-La-Neuve. Depuis le parking de la Ferme du Biéreau\, c’est le premier bâtiment sur la droite lorsque vous marchez en direction du centre-ville. \n– Prix : 100 € pour les 5+1 séances; vous recevez un bon pour une soirée ouverte gratuite\, en compensation forfaitaire des soirées du groupe que vous pourriez éventuellement manquer. Le payement s’effectue sur place lors du premier cours (ou par virement sur le compte BE26 0635 0474 8629 au plus tard trois jours avant le début du groupe – communication « Groupe du mercredi »). \n– Prévention corona:    – Le groupe est limité (50 personnes max.).   – La salle est bien ventilée.   – Il y a du gel désinfectant sur place.  – Le port du masque n’est pas obligatoire (mais bienvenu). \n– Avec Anne-Mieke Haazen et Michel Wéry.  \n \n \n			\n			\n				\n				\n				\n				\n				\n				\n				\n				\n				\n				\n				\n				\n				\n				\n				\n				\n			\n			\n				\n				\n				\n				\n			\n			\n				\n				\n			\n				\n				\n				\n				\n				\n				\n				\n				\n				\n				\n				\n				\n				\n				\n				\n				\n				\n				Inscription\n			\n				\n				\n				\n				\n				\n	Remarque : JavaScript est requis pour ce contenu.\nAucun champ trouvé.
URL:https://www.dancetribe.be/event/groupe-regulier-mercredi-2/
LOCATION:Louvain-la-Neuve
CATEGORIES:Groupes réguliers
ORGANIZER;CN="Michel W%C3%A9ry":MAILTO:michel@dancetribe.be
END:VEVENT
BEGIN:VEVENT
DTSTART;TZID=Europe/Paris:20211008T080000
DTEND;TZID=Europe/Paris:20211008T170000
DTSTAMP:20260422T090444
CREATED:20210828T091921Z
LAST-MODIFIED:20210830T124424Z
UID:6090-1633680000-1633712400@www.dancetribe.be
SUMMARY:Soirée ouverte
DESCRIPTION:Soirée ouverte\n			\n			\n				\n				\n				\n				\n			\n				\n				\n				\n				\n				\n				\n				\n				\n				\n				\n				Qu’est-ce que c’est: Les soirées ouvertes sont accessibles à tou(te)s\, quelle que soit votre expérience. Si c’est la première fois que vous venez danser les 5 rythmes\, nous vous invitons simplement à lire ceci\, pour entrer plus facilement dans le bain. Bienvenue ! \nPour qui: Pour tou(te)s\, débutants compris. \nQuand: le vendredi 8 octobre. Accueil à 19H20. Cours de 19H30 à 22H. \nLieu: rue du Collège 2 à 1348 Louvain-La-Neuve. À partir du parking de la Ferme du Biéreau\, marcher 50m en direction du centre-ville puis entrer à droite dans l’école maternelle. \nPrix: 20 €\, payables sur place. 16 € pour les personnes au CPAS. \nInscription: Il n’est pas nécessaire de s’inscrire; venez simplement sur place. \nAvec Michel Wéry.
URL:https://www.dancetribe.be/event/soiree-ouverte-15/
LOCATION:Louvain-la-Neuve
CATEGORIES:Stages
ORGANIZER;CN="Michel W%C3%A9ry":MAILTO:michel@dancetribe.be
END:VEVENT
BEGIN:VEVENT
DTSTART;TZID=Europe/Paris:20211011T080000
DTEND;TZID=Europe/Paris:20211011T170000
DTSTAMP:20260422T090444
CREATED:20210828T132721Z
LAST-MODIFIED:20210828T132759Z
UID:6177-1633939200-1633971600@www.dancetribe.be
SUMMARY:Groupe régulier lundi
DESCRIPTION:Groupe régulier du lundi\n			\n			\n				\n				\n				\n				\n			\n				\n				\n				\n				\n				\n				\n				\n				\n				\n				\n				Hands on your back\n			\n			\n				\n				\n				\n				\n			\n				\n				\n				\n				\n				\n				\n				\n				\n				\n				\n				\n			\n			\n				\n				\n				\n				\n			\n				\n				\n				\n				\n				\n				\n				\n				\n				\n				\n				Nous t’invitons à une pratique régulière dans un  groupe solidaire\, qui évolue ensemble. Cette formule permet d’approfondir de nombreux aspects de notre pratique\, et de l’enraciner plus facilement dans notre quotidien. \nDans ‘Hands on your back’\, nous allons spécifiquement explorer le thème du soutien: en recevoir (car il est toujours disponible\, sous beaucoup de formes)\, en offrir aux autres\, et nous encourager mutuellement grandir\, dans un cadre de confiance. \n			\n			\n				\n				\n				\n				\n				\n				\n				\n				\n				\n				Cet espace permet de soutenir le travail personnel de chacun\, ET nous sommes aussi une tribu de belles personnes en marche. Bienvenue à toi pour apporter ta couleur. \nPour lancer le groupe dans un travail approfondi\, il y a une journée de stage le dimanche 19/09. Cette journée est recommandée mais optionnelle\, en complément du groupe. Elle permettra de plonger en profondeur dans le thème\, et de renforcer les liens entre nous. \n			\n			\n				\n				\n				\n				\n			\n				\n				\n			\n				\n				\n				\n				\n				\n				\n				\n				\n				\n				\n				\n				\n				\n				\n				\n				\n				Modalités\n			\n				\n				\n				\n				\n				– Pour qui : pour tou(te)s\, quelle que soit l’expérience et la condition physique. Si c’est la première fois que vous venez danser les 5 rythmes\, nous vous invitons à lire ceci. \n– Dates : les lundi 20 et 27 septembre et les 4\, 11 et 18 octobre 2021\, de 19H30 à 22H. Merci d’arriver à 19H15-20. \n– Lieu : dans une belle salle avec plancher située avenue Léopold Wiener n°32 à 1170 Boitsfort. À 12 minutes à pied de la gare de Watermael\, du métro Beaulieu et des bus n°17\, 41 et 95 (arrêt Keym). \n– Prix : 100 € pour les 5+1 séances; vous recevez un bon pour une soirée ouverte gratuite\, en compensation des soirées du groupe que vous pourriez éventuellement manquer. Le payement s’effectue sur place lors du premier cours\, ou par virement sur le compte BE26 0635 0474 8629 au plus tard trois jours avant le début du groupe – communication « Groupe du lundi »). \n– Prévention corona:    – Le groupe est limité (50 personnes max.).   – La salle est très grande et bien ventilée.   – Il y a du gel désinfectant sur place.  – Le port du masque n’est pas obligatoire (mais bienvenu). \n– Avec Anne-Mieke Haazen. Formée et accréditée par Gabrielle Roth\, Anne-Mieke enseigne intensivement les 5 rythmes depuis 13 ans. Chaleureuse\, authentique et inspirante\, elle guide les personne en liaison profonde avec son identité de femme. Elle enseigne également la pratique Open Floor et l‘art-thérapie. \n \n \n			\n			\n				\n				\n				\n				\n				\n				\n				\n				\n				\n				\n				\n				\n				\n				\n				\n				\n			\n			\n				\n				\n				\n				\n			\n			\n				\n				\n			\n				\n				\n				\n				\n				\n				\n				\n				\n				\n				\n				\n				\n				\n				\n				\n				\n				\n				\n				\n					Avec enracinement et passion\, j’aime guider les personnes vers la sagesse et la liberté qui vivent en chacun de nous. Ma manière d’enseigner est spontanée\, inspirée et chaleureuse. \n					Anne-Mieke\n					 \n				\n			\n				\n				\n				\n				\n				Inscription\n			\n				\n				\n				\n				\n				\n	Remarque : JavaScript est requis pour ce contenu.\nAucun champ trouvé.
URL:https://www.dancetribe.be/event/groupe-regulier-lundi-2/
LOCATION:Boitsfort\, avenue Léopold Wiener 32\, Bruxelles\, 1170\, Belgique
CATEGORIES:Groupes réguliers
END:VEVENT
BEGIN:VEVENT
DTSTART;TZID=Europe/Paris:20211013T080000
DTEND;TZID=Europe/Paris:20211013T170000
DTSTAMP:20260422T090444
CREATED:20210828T142410Z
LAST-MODIFIED:20210831T104516Z
UID:6199-1634112000-1634144400@www.dancetribe.be
SUMMARY:Groupe régulier mercredi
DESCRIPTION:Groupe régulier du mercredi\n			\n			\n				\n				\n				\n				\n			\n				\n				\n				\n				\n				\n				\n				\n				\n				\n				\n				\n			\n			\n				\n				\n				\n				\n			\n				\n				\n				\n				\n				\n				\n				\n				\n				\n				\n				\n			\n			\n				\n				\n				\n				\n			\n				\n				\n				\n				\n				\n				\n				\n				\n				\n				\n				Nous t’invitons à pratiquer les 5 rythmes régulièrement\, en dansant dans un groupe qui évolue ensemble et qui se retrouve de semaine en semaine. Quel que soit notre état présent\, nous aurons rendez-vous avec la danse et avec la communauté\, pour découvrir les mille-et-une manières dont la danse nous transforme\, et en utilisant des outils simples et puissants pour devenir plus enracinées dans notre corps\, notre coeur et notre esprit.\n			\n			\n				\n				\n				\n				\n				\n				\n				\n				\n				\n				Dans le même bateau\, nous recevons et offrons du soutien\, et nous encourageons à prendre des risques et à grandir\, dans un cadre de confiance. Bienvenue à toi pour apporter ta couleur.\n			\n			\n				\n				\n				\n				\n			\n				\n				\n			\n				\n				\n				\n				\n				\n				\n				\n				\n				\n				\n				\n				\n				\n				\n				\n				\n				Modalités\n			\n				\n				\n				\n				\n				– Pour qui : pour tou(te)s\, quelle que soit l’expérience et la condition physique. Si c’est la première fois que vous venez danser les 5 rythmes\, nous vous invitons à lire ceci. \n– Dates : les mercredi 22 et 29 septembre\, et les 6\, 13 et 20 octobre 2021\, de 19H30 à 22H. Merci d’arriver à 19H15-20 pour démarrer à temps. \n– Lieu : Ecole maternelle située rue du Collège 2 à 1348 Louvain-La-Neuve. Depuis le parking de la Ferme du Biéreau\, c’est le premier bâtiment sur la droite lorsque vous marchez en direction du centre-ville. \n– Prix : 100 € pour les 5+1 séances; vous recevez un bon pour une soirée ouverte gratuite\, en compensation forfaitaire des soirées du groupe que vous pourriez éventuellement manquer. Le payement s’effectue sur place lors du premier cours (ou par virement sur le compte BE26 0635 0474 8629 au plus tard trois jours avant le début du groupe – communication « Groupe du mercredi »). \n– Prévention corona:\n– Le groupe est limité (50 personnes max.).\n– La salle est bien ventilée.\n– Il y a du gel désinfectant sur place.\n– Le port du masque n’est pas obligatoire (mais bienvenu). \n– Avec Anne-Mieke Haazen et Michel Wéry.  \n  \n \n			\n			\n				\n				\n				\n				\n				\n				\n				\n				\n				\n				\n				\n				\n				\n				\n				\n				\n			\n			\n				\n				\n				\n				\n			\n			\n				\n				\n			\n				\n				\n				\n				\n				\n				\n				\n				\n				\n				\n				\n				\n				\n				\n				\n				\n				\n				Inscription\n			\n				\n				\n				\n				\n				\n	Remarque : JavaScript est requis pour ce contenu.\nAucun champ trouvé.
URL:https://www.dancetribe.be/event/groupe-regulier-mercredi-3/
LOCATION:Louvain-la-Neuve
CATEGORIES:Groupes réguliers
END:VEVENT
BEGIN:VEVENT
DTSTART;TZID=Europe/Paris:20211015T080000
DTEND;TZID=Europe/Paris:20211015T170000
DTSTAMP:20260422T090444
CREATED:20210828T095158Z
LAST-MODIFIED:20210830T124616Z
UID:6115-1634284800-1634317200@www.dancetribe.be
SUMMARY:Soirée ouverte
DESCRIPTION:Soirée ouverte\n			\n			\n				\n				\n				\n				\n			\n				\n				\n				\n				\n				\n				\n				\n				\n				\n				\n				Qu’est-ce que c’est: Les soirées ouvertes sont accessibles à tou(te)s\, quelle que soit votre expérience. Si c’est la première fois que vous venez danser les 5 rythmes\, nous vous invitons simplement à lire ceci\, pour entrer plus facilement dans le bain. Bienvenue ! \nPour qui: Pour tou(te)s\, débutants compris. \nQuand: le vendredi 15 octobre. Accueil à 19H15. Cours de 19H30 à 22H. Merci d’être ponctuels. \nLieu: Dans une belle grande salle toute en plancher située avenue Léopold Wiener n°32 à 1170 Boitsfort. La salle est très spacieuse\, très haute de plafond\, et sera bien ventilée. \nSituée à 12min à pied du métro Beaulieu\, des bus n°17\, 41 et 95 (arrêt Keym)\, et de la gare de Watermael. Villo le plus proche: station n°345 (3 Tilleuls). \nPrix: 20 €\, payables sur place. 16 € pour les personnes au CPAS. \nInscription: Il n’est pas nécessaire de s’inscrire; venez simplement sur place. \nAvec Michel Wéry
URL:https://www.dancetribe.be/event/soiree-ouverte-20/
LOCATION:Boitsfort\, avenue Léopold Wiener 32\, Bruxelles\, 1170\, Belgique
CATEGORIES:Soirées ouvertes
ORGANIZER;CN="Michel W%C3%A9ry":MAILTO:michel@dancetribe.be
END:VEVENT
BEGIN:VEVENT
DTSTART;TZID=Europe/Paris:20211018T080000
DTEND;TZID=Europe/Paris:20211018T170000
DTSTAMP:20260422T090444
CREATED:20210828T132941Z
LAST-MODIFIED:20210828T132944Z
UID:6181-1634544000-1634576400@www.dancetribe.be
SUMMARY:Groupe régulier lundi
DESCRIPTION:Groupe régulier du lundi\n			\n			\n				\n				\n				\n				\n			\n				\n				\n				\n				\n				\n				\n				\n				\n				\n				\n				Hands on your back\n			\n			\n				\n				\n				\n				\n			\n				\n				\n				\n				\n				\n				\n				\n				\n				\n				\n				\n			\n			\n				\n				\n				\n				\n			\n				\n				\n				\n				\n				\n				\n				\n				\n				\n				\n				Nous t’invitons à une pratique régulière dans un  groupe solidaire\, qui évolue ensemble. Cette formule permet d’approfondir de nombreux aspects de notre pratique\, et de l’enraciner plus facilement dans notre quotidien. \nDans ‘Hands on your back’\, nous allons spécifiquement explorer le thème du soutien: en recevoir (car il est toujours disponible\, sous beaucoup de formes)\, en offrir aux autres\, et nous encourager mutuellement grandir\, dans un cadre de confiance. \n			\n			\n				\n				\n				\n				\n				\n				\n				\n				\n				\n				Cet espace permet de soutenir le travail personnel de chacun\, ET nous sommes aussi une tribu de belles personnes en marche. Bienvenue à toi pour apporter ta couleur. \nPour lancer le groupe dans un travail approfondi\, il y a une journée de stage le dimanche 19/09. Cette journée est recommandée mais optionnelle\, en complément du groupe. Elle permettra de plonger en profondeur dans le thème\, et de renforcer les liens entre nous. \n			\n			\n				\n				\n				\n				\n			\n				\n				\n			\n				\n				\n				\n				\n				\n				\n				\n				\n				\n				\n				\n				\n				\n				\n				\n				\n				Modalités\n			\n				\n				\n				\n				\n				– Pour qui : pour tou(te)s\, quelle que soit l’expérience et la condition physique. Si c’est la première fois que vous venez danser les 5 rythmes\, nous vous invitons à lire ceci. \n– Dates : les lundi 20 et 27 septembre et les 4\, 11 et 18 octobre 2021\, de 19H30 à 22H. Merci d’arriver à 19H15-20. \n– Lieu : dans une belle salle avec plancher située avenue Léopold Wiener n°32 à 1170 Boitsfort. À 12 minutes à pied de la gare de Watermael\, du métro Beaulieu et des bus n°17\, 41 et 95 (arrêt Keym). \n– Prix : 100 € pour les 5+1 séances; vous recevez un bon pour une soirée ouverte gratuite\, en compensation des soirées du groupe que vous pourriez éventuellement manquer. Le payement s’effectue sur place lors du premier cours\, ou par virement sur le compte BE26 0635 0474 8629 au plus tard trois jours avant le début du groupe – communication « Groupe du lundi »). \n– Prévention corona:    – Le groupe est limité (50 personnes max.).   – La salle est très grande et bien ventilée.   – Il y a du gel désinfectant sur place.  – Le port du masque n’est pas obligatoire (mais bienvenu). \n– Avec Anne-Mieke Haazen. Formée et accréditée par Gabrielle Roth\, Anne-Mieke enseigne intensivement les 5 rythmes depuis 13 ans. Chaleureuse\, authentique et inspirante\, elle guide les personne en liaison profonde avec son identité de femme. Elle enseigne également la pratique Open Floor et l‘art-thérapie. \n \n \n			\n			\n				\n				\n				\n				\n				\n				\n				\n				\n				\n				\n				\n				\n				\n				\n				\n				\n			\n			\n				\n				\n				\n				\n			\n			\n				\n				\n			\n				\n				\n				\n				\n				\n				\n				\n				\n				\n				\n				\n				\n				\n				\n				\n				\n				\n				\n				\n					Avec enracinement et passion\, j’aime guider les personnes vers la sagesse et la liberté qui vivent en chacun de nous. Ma manière d’enseigner est spontanée\, inspirée et chaleureuse. \n					Anne-Mieke\n					 \n				\n			\n				\n				\n				\n				\n				Inscription\n			\n				\n				\n				\n				\n				\n	Remarque : JavaScript est requis pour ce contenu.\nAucun champ trouvé.
URL:https://www.dancetribe.be/event/groupe-regulier-lundi-3/
LOCATION:Boitsfort\, avenue Léopold Wiener 32\, Bruxelles\, 1170\, Belgique
CATEGORIES:Groupes réguliers
END:VEVENT
BEGIN:VEVENT
DTSTART;TZID=Europe/Paris:20211020T080000
DTEND;TZID=Europe/Paris:20211020T170000
DTSTAMP:20260422T090444
CREATED:20210828T142546Z
LAST-MODIFIED:20211014T084127Z
UID:6205-1634716800-1634749200@www.dancetribe.be
SUMMARY:Groupe régulier mercredi
DESCRIPTION:Groupe régulier du mercredi\n			\n			\n				\n				\n				\n				\n			\n				\n				\n				\n				\n				\n				\n				\n				\n				\n				\n				\n			\n			\n				\n				\n				\n				\n			\n				\n				\n				\n				\n				\n				\n				\n				\n				\n				\n				\n			\n			\n				\n				\n				\n				\n			\n				\n				\n				\n				\n				\n				\n				\n				\n				\n				\n				Nous t’invitons à pratiquer les 5 rythmes régulièrement\, en dansant dans un groupe qui évolue ensemble et qui se retrouve de semaine en semaine. Quel que soit notre état présent\, nous aurons rendez-vous avec la danse et avec la communauté\, pour découvrir les mille-et-une manières dont la danse nous transforme\, et en utilisant des outils simples et puissants pour devenir plus enracinées dans notre corps\, notre coeur et notre esprit. \n			\n			\n				\n				\n				\n				\n				\n				\n				\n				\n				\n				Dans le même bateau\, nous recevons et offrons du soutien\, et nous encourageons à prendre des risques et à grandir\, dans un cadre de confiance. Bienvenue à toi pour apporter ta couleur. \n			\n			\n				\n				\n				\n				\n			\n				\n				\n			\n				\n				\n				\n				\n				\n				\n				\n				\n				\n				\n				\n				\n				\n				\n				\n				\n				Modalités\n			\n				\n				\n				\n				\n				– Pour qui : pour tou(te)s\, quelle que soit l’expérience et la condition physique. Si c’est la première fois que vous venez danser les 5 rythmes\, nous vous invitons à lire ceci. \n– Dates : les mercredi 22 et 29 septembre\, et les 6\, 13 et 20 octobre 2021\, de 19H30 à 22H. Merci d’arriver à 19H15-20 pour démarrer à temps. \n– Lieu : Ecole maternelle située rue du Collège 2 à 1348 Louvain-La-Neuve. Attention: depuis le parking de la Ferme du Biéreau\, c’est le premier bâtiment sur la droite lorsque vous marchez en direction du centre-ville. \n– Prix : 100 € pour les 5+1 séances; vous recevez un bon pour une soirée ouverte gratuite\, en compensation forfaitaire des soirées du groupe que vous pourriez éventuellement manquer. Il n’y a pas d’autre compensation possible. \n– Payement: Il s’effectue sur place lors du premier cours (ou par virement sur le compte BE26 0635 0474 8629 au plus tard trois jours avant le début du groupe – communication « Groupe du mercredi »). \n– Prévention covid:    – Le groupe est limité (50 personnes max.).   – La salle est bien ventilée.   – Il y a du gel désinfectant sur place.  – Le port du masque n’est pas obligatoire (mais bienvenu). \n– Avec Anne-Mieke Haazen et Michel Wéry.  \n \n \n			\n			\n				\n				\n				\n				\n				\n				\n				\n				\n				\n				\n				\n				\n				\n				\n				\n				\n			\n			\n				\n				\n				\n				\n			\n			\n				\n				\n			\n				\n				\n				\n				\n				\n				\n				\n				\n				\n				\n				\n				\n				\n				\n				\n				\n				\n				Inscription\n			\n				\n				\n				\n				\n				\n	Remarque : JavaScript est requis pour ce contenu.\nAucun champ trouvé.
URL:https://www.dancetribe.be/event/groupe-regulier-mercredi-4/
LOCATION:Louvain-la-Neuve
CATEGORIES:Groupes réguliers
END:VEVENT
BEGIN:VEVENT
DTSTART;TZID=Europe/Paris:20211025T080000
DTEND;TZID=Europe/Paris:20211025T170000
DTSTAMP:20260422T090444
CREATED:20210828T095400Z
LAST-MODIFIED:20211022T101016Z
UID:6119-1635148800-1635181200@www.dancetribe.be
SUMMARY:Soirée ouverte
DESCRIPTION:Soirée ouverte\n			\n			\n				\n				\n				\n				\n			\n				\n				\n				\n				\n				\n				\n				\n				\n				\n				\n				Qu’est-ce que c’est: Les soirées ouvertes sont accessibles à tou(te)s\, quelle que soit votre expérience. Si c’est la première fois que vous venez danser les 5 rythmes\, nous vous invitons simplement à lire ceci\, pour entrer plus facilement dans le bain. Bienvenue ! \nPour qui: Pour tou(te)s\, débutants compris. \nQuand: le lundi 25 octobre. Accueil à 19H15. Cours de 19H30 à 22H. Merci d’être ponctuels. \nLieu: Dans une belle grande salle toute en plancher située avenue Léopold Wiener n°32 à 1170 Boitsfort. La salle est très spacieuse\, très haute de plafond\, et sera bien ventilée. \nSituée à 12min à pied du métro Beaulieu\, des bus n°17\, 41 et 95 (arrêt Keym)\, et de la gare de Watermael. Villo le plus proche: station n°345 (3 Tilleuls). \nPrix: 20 €\, payables sur place. 16 € pour les personnes au CPAS. \nInscription: Il n’est pas nécessaire de s’inscrire; venez simplement sur place. \nAvec Michel Wéry
URL:https://www.dancetribe.be/event/soiree-ouverte-21/
LOCATION:Boitsfort\, avenue Léopold Wiener 32\, Bruxelles\, 1170\, Belgique
CATEGORIES:Soirées ouvertes
ORGANIZER;CN="Michel W%C3%A9ry":MAILTO:michel@dancetribe.be
END:VEVENT
BEGIN:VEVENT
DTSTART;TZID=Europe/Paris:20211027T080000
DTEND;TZID=Europe/Paris:20211027T170000
DTSTAMP:20260422T090444
CREATED:20210828T093228Z
LAST-MODIFIED:20211022T101003Z
UID:6095-1635321600-1635354000@www.dancetribe.be
SUMMARY:Soirée ouverte
DESCRIPTION:Soirée ouverte\n			\n			\n				\n				\n				\n				\n			\n				\n				\n				\n				\n				\n				\n				\n				\n				\n				\n				Qu’est-ce que c’est: Les soirées ouvertes sont accessibles à tou(te)s\, quelle que soit votre expérience. Si c’est la première fois que vous venez danser les 5 rythmes\, nous vous invitons simplement à lire ceci\, pour entrer plus facilement dans le bain. Bienvenue ! \nPour qui: Pour tou(te)s\, débutants compris. \nQuand: le mercredi 27 octobre. Accueil à 19H20. Cours de 19H30 à 22H. \nLieu: rue du Collège 2 à 1348 Louvain-La-Neuve. À partir du parking de la Ferme du Biéreau\, marcher 50m en direction du centre-ville puis entrer à droite dans l’école maternelle. \nPrix: 20 €\, payables sur place. 16 € pour les personnes au CPAS. \nInscription: Il n’est pas nécessaire de s’inscrire; venez simplement sur place. \nAvec Anne-Mieke Haazen et Michel Wéry.
URL:https://www.dancetribe.be/event/soiree-ouverte-16/
LOCATION:Louvain-la-Neuve
CATEGORIES:Soirées ouvertes
END:VEVENT
END:VCALENDAR