BEGIN:VCALENDAR
VERSION:2.0
PRODID:-//dancetribe.be - ECPv6.15.20//NONSGML v1.0//EN
CALSCALE:GREGORIAN
METHOD:PUBLISH
X-WR-CALNAME:dancetribe.be
X-ORIGINAL-URL:https://www.dancetribe.be
X-WR-CALDESC:Évènements pour dancetribe.be
REFRESH-INTERVAL;VALUE=DURATION:PT1H
X-Robots-Tag:noindex
X-PUBLISHED-TTL:PT1H
BEGIN:VTIMEZONE
TZID:Europe/Paris
BEGIN:DAYLIGHT
TZOFFSETFROM:+0100
TZOFFSETTO:+0200
TZNAME:CEST
DTSTART:20200329T010000
END:DAYLIGHT
BEGIN:STANDARD
TZOFFSETFROM:+0200
TZOFFSETTO:+0100
TZNAME:CET
DTSTART:20201025T010000
END:STANDARD
BEGIN:DAYLIGHT
TZOFFSETFROM:+0100
TZOFFSETTO:+0200
TZNAME:CEST
DTSTART:20210328T010000
END:DAYLIGHT
BEGIN:STANDARD
TZOFFSETFROM:+0200
TZOFFSETTO:+0100
TZNAME:CET
DTSTART:20211031T010000
END:STANDARD
BEGIN:DAYLIGHT
TZOFFSETFROM:+0100
TZOFFSETTO:+0200
TZNAME:CEST
DTSTART:20220327T010000
END:DAYLIGHT
BEGIN:STANDARD
TZOFFSETFROM:+0200
TZOFFSETTO:+0100
TZNAME:CET
DTSTART:20221030T010000
END:STANDARD
END:VTIMEZONE
BEGIN:VEVENT
DTSTART;TZID=Europe/Paris:20210602T183000
DTEND;TZID=Europe/Paris:20210602T203000
DTSTAMP:20260424T131900
CREATED:20210514T083356Z
LAST-MODIFIED:20210517T204913Z
UID:5615-1622658600-1622665800@www.dancetribe.be
SUMMARY:Soirée ouverte à l'extérieur
DESCRIPTION:Soirée ouverte en plein air\n			\n			\n				\n				\n				\n				\n			\n				\n				\n				\n				\n				\n				\n				\n				\n				\n				\n				Qu’est-ce que c’est: Un cycle de méditation alternant la danse des 5 rythmes (principalement) avec de la méditation marchée ou assise\, dans la nature. C’est un beau temps de reconnexion à soi\, aux autres danseurs\, et à la nature. Un temps de magie\, de respiration et de présence. Merci d’arriver bien à l’heure et d’être prêt(e) quelle que soit la météo. \nPour qui: Pour toutes et tous\, débutants compris. \nQuand: mercredi 2 juin\, accueil à 18H10-15 et cours de 18H30 à 20H30. \nLieu: Avenue des Genêts 21\, 1435 Mont-St-Guibert. Merci de privilégier le co-voiturage et de vous garer au parking du terrain de foot\, rue du Cerisier (à quelques centaines de mètres de la maison). \nPrix: 20€ (ou 16€ pour les personnes inscrites au CPAS). \nInscription:  La loi nous impose un maximum de 25 participants\, donc chaque place est vraiment précieuse. Si vous vous inscrivez\, vous vous engagez à payer la séance\, même en cas d’annulation. Merci pour votre compréhension. \n–> Cliquez ici pour vous inscrire. \nAvec Anne-Mieke Haazen.
URL:https://www.dancetribe.be/event/5615/
LOCATION:Mont-St-Guibert (LLN)\, Av des Genêts 21\, Hévillers\, 1435\, Belgique
CATEGORIES:Soirées ouvertes
END:VEVENT
BEGIN:VEVENT
DTSTART;TZID=Europe/Paris:20210610T080000
DTEND;TZID=Europe/Paris:20210610T170000
DTSTAMP:20260424T131900
CREATED:20210525T090007Z
LAST-MODIFIED:20210607T153417Z
UID:5842-1623312000-1623344400@www.dancetribe.be
SUMMARY:Soirée ouverte
DESCRIPTION:Soirée ouverte (sur réservation)\n			\n			\n				\n				\n				\n				\n			\n				\n				\n				\n				\n				\n				\n				\n				\n				\n				\n				Attention: l’inscription est nécessaire! (voir ci-dessous) \nQu’est-ce que c’est: Les soirées ouvertes sont accessibles à tou(te)s\, quelle que soit votre expérience. Si c’est la première fois que vous venez danser les 5 rythmes\, nous vous invitons simplement à lire ceci\, pour entrer plus facilement dans le bain. Bienvenue ! \nPour qui: Pour tou(te)s\, débutants compris. \nQuand: le jeudi 10 juin. Accueil à 19H20. Cours de 19H30 à 22H. \nLieu: Columban\, Chemin de Vieusart 162\, 1300 Wavre (à 3 minutes du du Décathlon). \nPrix: 20 €\, payables sur place. 16 € pour les personnes au CPAS. \nInscription et règles d’annulation:– Dans le Doodle ci-dessous\, inscrivez votre nom complet. Nous nous réservons le droit de désinscrire toute personne dont nous ne connaissons pas le nom complet.– Chaque place est précieuse. En cas de désinscription moins de 48H avant la soirée\, la séance est dûe.>> Lien Doodle pour s’inscrire. \nAvec Michel Wéry.
URL:https://www.dancetribe.be/event/soiree-ouverte-sur-reservation-3/
LOCATION:Columban (LLN)\, 162 Chemin de Vieusart\, Wavre\, 1300\, Belgique
CATEGORIES:Soirées ouvertes
ORGANIZER;CN="Michel W%C3%A9ry":MAILTO:michel@dancetribe.be
END:VEVENT
BEGIN:VEVENT
DTSTART;TZID=Europe/Paris:20210611T193000
DTEND;TZID=Europe/Paris:20210611T220000
DTSTAMP:20260424T131900
CREATED:20210517T100304Z
LAST-MODIFIED:20210607T141109Z
UID:5633-1623439800-1623448800@www.dancetribe.be
SUMMARY:Soirée ouverte
DESCRIPTION:Soirée ouverte\n			\n			\n				\n				\n				\n				\n			\n				\n				\n				\n				\n				\n				\n				\n				\n				\n				\n				Qu’est-ce que c’est: Les soirées ouvertes sont accessibles à tou(te)s\, quelle que soit votre expérience. Si c’est la première fois que vous venez danser les 5 rythmes\, nous vous invitons simplement à lire ceci\, pour entrer plus facilement dans le bain. Bienvenue ! \nPour qui: Pour tou(te)s\, débutants compris. En raison des règles covid\, la place est limitée à 50 personnes! \nQuand: le vendredi 11 juin. Accueil à 19H15. Cours de 19H30 à 22H.  Merci d’être ponctuels. \nLieu: Dans une belle grande salle toute en plancher située avenue Léopold Wiener n°32 à 1170 Boitsfort. \nSituée à 12min à pied du métro Beaulieu\, des bus n°17\, 41 et 95 (arrêt Keym)\, et de la gare de Watermael. Villo le plus proche: station n°345 (3 Tilleuls). \nPrix: 20 €\, payables sur place\, 16 € pour les personnes au CPAS. \nInscription et règles d’annulation:– Dans le Doodle ci-dessous\, inscrivez votre nom complet. NB: nous nous réservons le droit de désinscrire toute personne dont nous ne connaissons pas le nom complet.– Chaque place étant précieuse\, la séance reste dûe en cas de désinscription moins de 48H avant la soirée.>> Lien Doodle pour s’inscrire.
URL:https://www.dancetribe.be/event/soiree-ouverte/
LOCATION:Bruxelles (Boitsfort)\, avenue Léopold Wiener 32\, Bruxelles\, 1170
CATEGORIES:Soirées ouvertes
END:VEVENT
BEGIN:VEVENT
DTSTART;TZID=Europe/Paris:20210614T080000
DTEND;TZID=Europe/Paris:20210614T170000
DTSTAMP:20260424T131900
CREATED:20210517T102647Z
LAST-MODIFIED:20210628T131915Z
UID:5645-1623657600-1623690000@www.dancetribe.be
SUMMARY:Soirée ouverte
DESCRIPTION:Soirée ouverte\n			\n			\n				\n				\n				\n				\n			\n				\n				\n				\n				\n				\n				\n				\n				\n				\n				\n				Qu’est-ce que c’est: Les soirées ouvertes sont accessibles à tou(te)s\, quelle que soit votre expérience. Si c’est la première fois que vous venez danser les 5 rythmes\, nous vous invitons simplement à lire ceci\, pour entrer plus facilement dans le bain. Bienvenue ! \nPour qui: Pour tou(te)s\, débutants compris. En raison des règles covid\, la place est limitée à 50 personnes. La salle est très spacieuse\, haute\, et sera bien ventilée. \nQuand: le lundi 14 juin. Accueil à 19H15. Cours de 19H30 à 22H.  Merci d’être ponctuels. \nLieu: Dans une belle grande salle toute en plancher située avenue Léopold Wiener n°32 à 1170 Boitsfort. \nSituée à 12min à pied du métro Beaulieu\, des bus n°17\, 41 et 95 (arrêt Keym)\, et de la gare de Watermael. Villo le plus proche: station n°345 (3 Tilleuls). \nPrix: 20 €\, payables sur place\, 16 € pour les personnes au CPAS. \nInscription et règles d’annulation:– Dans le Doodle ci-dessous\, inscrivez votre nom complet. Nous nous réservons le droit de désinscrire toute personne dont nous ne connaissons pas le nom complet.– Chaque place est précieuse. En cas de désinscription moins de 48H avant la soirée\, la séance est dûe.>> Lien Doodle pour s’inscrire. \n  \nAvec Michel Wéry
URL:https://www.dancetribe.be/event/soiree-ouverte-2/
LOCATION:Bruxelles (Boitsfort)\, avenue Léopold Wiener 32\, Bruxelles\, 1170
CATEGORIES:Soirées ouvertes
ORGANIZER;CN="Michel W%C3%A9ry":MAILTO:michel@dancetribe.be
END:VEVENT
BEGIN:VEVENT
DTSTART;TZID=Europe/Paris:20210616T193000
DTEND;TZID=Europe/Paris:20210616T220000
DTSTAMP:20260424T131900
CREATED:20210524T090820Z
LAST-MODIFIED:20210607T153354Z
UID:5811-1623871800-1623880800@www.dancetribe.be
SUMMARY:Soirée ouverte
DESCRIPTION:Soirée ouverte (sur réservation)\n			\n			\n				\n				\n				\n				\n			\n				\n				\n				\n				\n				\n				\n				\n				\n				\n				\n				Attention: l’inscription est nécessaire! (voir ci-dessous) \nQu’est-ce que c’est: Les soirées ouvertes sont accessibles à tou(te)s\, quelle que soit votre expérience. Si c’est la première fois que vous venez danser les 5 rythmes\, nous vous invitons simplement à lire ceci\, pour entrer plus facilement dans le bain. Bienvenue ! \nPour qui: Pour tou(te)s\, débutants compris. \nQuand: le mercredi 16 juin. Accueil à 19H15. Cours de 19H30 à 22H.  Merci d’être ponctuels. \nLieu: Dans l’école de danse Artendanse\, à côté de la gare de Limal\, à 5km de Louvain-la-Neuve. Rue Achille Bauduin 2\, 1300 Limal (Wavre).  \nPrix: 20 €\, payables sur place\, 16 € pour les personnes au CPAS.  \nInscription et règles d’annulation:– Dans le Doodle ci-dessous\, inscrivez votre nom complet. Nous nous réservons le droit de désinscrire toute personne dont nous ne connaissons pas le nom complet.– Chaque place est précieuse. En cas de désinscription moins de 48H avant la soirée\, la séance est dûe.>> Lien Doodle pour s’inscrire. \nAvec Anne-Mieke Haazen.
URL:https://www.dancetribe.be/event/soiree-ouverte-6/
LOCATION:Limal (LLN)\, Rue Achille Bauduin 2\, Limal\, 1300\, Belgique
CATEGORIES:Soirées ouvertes
END:VEVENT
BEGIN:VEVENT
DTSTART;TZID=Europe/Paris:20210621T193000
DTEND;TZID=Europe/Paris:20210621T220000
DTSTAMP:20260424T131900
CREATED:20210517T103123Z
LAST-MODIFIED:20210607T141732Z
UID:5650-1624303800-1624312800@www.dancetribe.be
SUMMARY:Soirée ouverte
DESCRIPTION:Soirée ouverte\n			\n			\n				\n				\n				\n				\n			\n				\n				\n				\n				\n				\n				\n				\n				\n				\n				\n				Qu’est-ce que c’est: Les soirées ouvertes sont accessibles à tou(te)s\, quelle que soit votre expérience. Si c’est la première fois que vous venez danser les 5 rythmes\, nous vous invitons simplement à lire ceci\, pour entrer plus facilement dans le bain. Bienvenue ! \nPour qui: Pour tou(te)s\, débutants compris. En raison des règles covid\, la place est limitée à 50 personnes. La salle est très spacieuse\, haute\, et sera bien ventilée. \nQuand: le lundi 21 juin. Accueil à 19H15. Cours de 19H30 à 22H.  Merci d’être ponctuels. \nLieu: Dans une belle grande salle toute en plancher située avenue Léopold Wiener n°32 à 1170 Boitsfort. \nSituée à 12min à pied du métro Beaulieu\, des bus n°17\, 41 et 95 (arrêt Keym)\, et de la gare de Watermael. Villo le plus proche: station n°345 (3 Tilleuls). \nPrix: 20 €\, payables sur place\, 16 € pour les personnes au CPAS. \nInscription et règles d’annulation:– Dans le Doodle ci-dessous\, inscrivez votre nom complet. Nous nous réservons le droit de désinscrire toute personne dont nous ne connaissons pas le nom complet.– Chaque place est précieuse. En cas de désinscription moins de 48H avant la soirée\, la séance est dûe.>> Lien Doodle pour s’inscrire. \nAvec Anne-Mieke Haazen
URL:https://www.dancetribe.be/event/soiree-ouverte-3/
LOCATION:Bruxelles (Boitsfort)\, avenue Léopold Wiener 32\, Bruxelles\, 1170
CATEGORIES:Soirées ouvertes
END:VEVENT
BEGIN:VEVENT
DTSTART;TZID=Europe/Paris:20210623T080000
DTEND;TZID=Europe/Paris:20210623T170000
DTSTAMP:20260424T131900
CREATED:20210524T094056Z
LAST-MODIFIED:20210607T153331Z
UID:5822-1624435200-1624467600@www.dancetribe.be
SUMMARY:Soirée ouverte
DESCRIPTION:Soirée ouverte (sur réservation)\n			\n			\n				\n				\n				\n				\n			\n				\n				\n				\n				\n				\n				\n				\n				\n				\n				\n				Attention: l’inscription est nécessaire! (voir ci-dessous) \nQu’est-ce que c’est: Les soirées ouvertes sont accessibles à tou(te)s\, quelle que soit votre expérience. Si c’est la première fois que vous venez danser les 5 rythmes\, nous vous invitons simplement à lire ceci\, pour entrer plus facilement dans le bain. Bienvenue ! \nPour qui: Pour tou(te)s\, débutants compris. \nQuand: le mercredi 23 juin. Accueil à 19H15. Cours de 19H30 à 22H.  Merci d’être ponctuels. \nLieu: Dans l’école de danse Artendanse\, à côté de la gare de Limal\, à 5km de Louvain-la-Neuve. Rue Achille Bauduin 2\, 1300 Limal (Wavre).  \nPrix: 20 €\, payables sur place\, 16 € pour les personnes au CPAS. \nInscription et règles d’annulation:– Dans le Doodle ci-dessous\, inscrivez votre nom complet. Nous nous réservons le droit de désinscrire toute personne dont nous ne connaissons pas le nom complet.– Chaque place est précieuse. En cas de désinscription moins de 48H avant la soirée\, la séance est dûe.>> Lien Doodle pour s’inscrire. \nAvec Michel Wéry.
URL:https://www.dancetribe.be/event/soiree-ouverte-sur-reservation/
LOCATION:Limal (LLN)\, Rue Achille Bauduin 2\, Limal\, 1300\, Belgique
CATEGORIES:Soirées ouvertes
ORGANIZER;CN="Michel W%C3%A9ry":MAILTO:michel@dancetribe.be
END:VEVENT
BEGIN:VEVENT
DTSTART;TZID=Europe/Paris:20210628T193000
DTEND;TZID=Europe/Paris:20210628T220000
DTSTAMP:20260424T131900
CREATED:20210517T103651Z
LAST-MODIFIED:20210607T142435Z
UID:5657-1624908600-1624917600@www.dancetribe.be
SUMMARY:Soirée ouverte
DESCRIPTION:Soirée ouverte\n			\n			\n				\n				\n				\n				\n			\n				\n				\n				\n				\n				\n				\n				\n				\n				\n				\n				Qu’est-ce que c’est: Les soirées ouvertes sont accessibles à tou(te)s\, quelle que soit votre expérience. Si c’est la première fois que vous venez danser les 5 rythmes\, nous vous invitons simplement à lire ceci\, pour entrer plus facilement dans le bain. Bienvenue ! \nPour qui: Pour tou(te)s\, débutants compris. En raison des règles Covid\, la place est limitée à 50 personnes. La salle est très spacieuse\, très haute de plafond\, et sera bien ventilée. \nQuand: le lundi 28 juin. Accueil à 19H15. Cours de 19H30 à 22H.  Merci d’être ponctuels. \nLieu: Dans une belle grande salle toute en plancher située avenue Léopold Wiener n°32 à 1170 Boitsfort. \nSituée à 12min à pied du métro Beaulieu\, des bus n°17\, 41 et 95 (arrêt Keym)\, et de la gare de Watermael. Villo le plus proche: station n°345 (3 Tilleuls). \nPrix: 20 €\, payables sur place. 16 € pour les personnes au CPAS. \nInscription et règles d’annulation:– Dans le Doodle ci-dessous\, inscrivez votre nom complet. Nous nous réservons le droit de désinscrire toute personne dont nous ne connaissons pas le nom complet.– Chaque place est précieuse. En cas de désinscription moins de 48H avant la soirée\, la séance est dûe.>> Lien Doodle pour s’inscrire. \nAvec Michel Wéry.
URL:https://www.dancetribe.be/event/soiree-ouverte-4/
LOCATION:Bruxelles (Boitsfort)\, avenue Léopold Wiener 32\, Bruxelles\, 1170
CATEGORIES:Soirées ouvertes
ORGANIZER;CN="Michel W%C3%A9ry":MAILTO:michel@dancetribe.be
END:VEVENT
BEGIN:VEVENT
DTSTART;TZID=Europe/Paris:20210630T193000
DTEND;TZID=Europe/Paris:20210630T220000
DTSTAMP:20260424T131900
CREATED:20210525T084405Z
LAST-MODIFIED:20210607T153308Z
UID:5837-1625081400-1625090400@www.dancetribe.be
SUMMARY:Soirée ouverte
DESCRIPTION:Soirée ouverte (sur réservation)\n			\n			\n				\n				\n				\n				\n			\n				\n				\n				\n				\n				\n				\n				\n				\n				\n				\n				Attention: l’inscription est nécessaire! (voir ci-dessous) \nQu’est-ce que c’est: Les soirées ouvertes sont accessibles à tou(te)s\, quelle que soit votre expérience. Si c’est la première fois que vous venez danser les 5 rythmes\, nous vous invitons simplement à lire ceci\, pour entrer plus facilement dans le bain. Bienvenue ! \nPour qui: Pour tou(te)s\, débutants compris. \nQuand: le mercredi 30 juin. Accueil à 19H15. Cours de 19H30 à 22H.  Merci d’être ponctuels. \nLieu: Dans l’école de danse Artendanse\, à côté de la gare de Limal\, à 5km de Louvain-la-Neuve. Rue Achille Bauduin 2\, 1300 Limal (Wavre).  \nPrix: 20 €\, payables sur place\, 16 € pour les personnes au CPAS. \nInscription et règles d’annulation:– Dans le Doodle ci-dessous\, inscrivez votre nom complet. Nous nous réservons le droit de désinscrire toute personne dont nous ne connaissons pas le nom complet.– Chaque place est précieuse. En cas de désinscription moins de 48H avant la soirée\, la séance est dûe.>> Lien Doodle pour s’inscrire. \nAvec Anne-Mieke Haazen.
URL:https://www.dancetribe.be/event/soiree-ouverte-sur-reservation-2/
LOCATION:Limal (LLN)\, Rue Achille Bauduin 2\, Limal\, 1300\, Belgique
CATEGORIES:Soirées ouvertes
END:VEVENT
END:VCALENDAR