BEGIN:VCALENDAR
VERSION:2.0
PRODID:-//dancetribe.be - ECPv6.15.20//NONSGML v1.0//EN
CALSCALE:GREGORIAN
METHOD:PUBLISH
X-ORIGINAL-URL:https://www.dancetribe.be
X-WR-CALDESC:Évènements pour dancetribe.be
REFRESH-INTERVAL;VALUE=DURATION:PT1H
X-Robots-Tag:noindex
X-PUBLISHED-TTL:PT1H
BEGIN:VTIMEZONE
TZID:Europe/Paris
BEGIN:DAYLIGHT
TZOFFSETFROM:+0100
TZOFFSETTO:+0200
TZNAME:CEST
DTSTART:20200329T010000
END:DAYLIGHT
BEGIN:STANDARD
TZOFFSETFROM:+0200
TZOFFSETTO:+0100
TZNAME:CET
DTSTART:20201025T010000
END:STANDARD
BEGIN:DAYLIGHT
TZOFFSETFROM:+0100
TZOFFSETTO:+0200
TZNAME:CEST
DTSTART:20210328T010000
END:DAYLIGHT
BEGIN:STANDARD
TZOFFSETFROM:+0200
TZOFFSETTO:+0100
TZNAME:CET
DTSTART:20211031T010000
END:STANDARD
BEGIN:DAYLIGHT
TZOFFSETFROM:+0100
TZOFFSETTO:+0200
TZNAME:CEST
DTSTART:20220327T010000
END:DAYLIGHT
BEGIN:STANDARD
TZOFFSETFROM:+0200
TZOFFSETTO:+0100
TZNAME:CET
DTSTART:20221030T010000
END:STANDARD
END:VTIMEZONE
BEGIN:VEVENT
DTSTART;TZID=Europe/Paris:20210519T183000
DTEND;TZID=Europe/Paris:20210519T203000
DTSTAMP:20260424T143848
CREATED:20210513T111259Z
LAST-MODIFIED:20210519T142529Z
UID:5546-1621449000-1621456200@www.dancetribe.be
SUMMARY:Soirée ouverte ANNULÉE
DESCRIPTION:Soirée ouverte en plein air\n			\n			\n				\n				\n				\n				\n			\n				\n				\n				\n				\n				\n				\n				\n				\n				\n				\n				Qu’est-ce que c’est: Un cycle de méditation alternant la danse des 5 rythmes (principalement) avec de la méditation marchée ou assise\, dans la nature. C’est un beau temps de reconnexion à soi\, aux autres danseurs\, et à la nature. Un temps de magie\, de respiration et de présence. Merci d’arriver bien à l’heure et d’être prêt(e) quelle que soit la météo. \nPour qui: Pour toutes et tous\, débutants compris. \nQuand: mercredi 19 mai\, accueil à 18H10-15 et cours de 18H30 à 20H30. \nLieu: Le jardin des possibles\, rue des Jardins 20\, 1300 Limal. A 800m de la gare de Profondsart (ligne Bruxelles-Ottignies). \nPrix: 20€ (ou 16€ pour les personnes inscrites au CPAS). \nInscription:  La loi nous impose un maximum de 25 participants\, donc chaque place est vraiment précieuse. Si vous vous inscrivez\, vous vous engagez à payer la séance\, même en cas d’annulation. Merci pour votre compréhension. \n–> Cliquez ici pour vous inscrire. \nAvec Anne-Mieke Haazen.
URL:https://www.dancetribe.be/event/soiree-ouverte-a-lexterieur/
LOCATION:Limal\, rue des Jardins 20\, Limal\, 1300\, Belgique
CATEGORIES:Soirées ouvertes
END:VEVENT
BEGIN:VEVENT
DTSTART;TZID=Europe/Paris:20210526T183000
DTEND;TZID=Europe/Paris:20210526T203000
DTSTAMP:20260424T143848
CREATED:20210514T083512Z
LAST-MODIFIED:20210514T083515Z
UID:5610-1622053800-1622061000@www.dancetribe.be
SUMMARY:Soirée ouverte à l'extérieur
DESCRIPTION:Soirée ouverte en plein air\n			\n			\n				\n				\n				\n				\n			\n				\n				\n				\n				\n				\n				\n				\n				\n				\n				\n				Qu’est-ce que c’est: Un cycle de méditation alternant la danse des 5 rythmes (principalement) avec de la méditation marchée ou assise\, dans la nature. C’est un beau temps de reconnexion à soi\, aux autres danseurs\, et à la nature. Un temps de magie\, de respiration et de présence. Merci d’arriver bien à l’heure et d’être prêt(e) quelle que soit la météo. \nPour qui: Pour toutes et tous\, débutants compris. \nQuand: mercredi 26 mai\, accueil à 18H10-15 et cours de 18H30 à 20H30. \nLieu: Le jardin des possibles\, rue des Jardins 20\, 1300 Limal (Wavre). A 800m de la gare de Profondsart (ligne Bruxelles-Ottignies). \nPrix: 20€ (ou 16€ pour les personnes inscrites au CPAS). \nInscription:  La loi nous impose un maximum de 25 participants\, donc chaque place est vraiment précieuse. Si vous vous inscrivez\, vous vous engagez à payer la séance\, même en cas d’annulation. Merci pour votre compréhension. \n–> Cliquez ici pour vous inscrire. \nAvec Anne-Mieke Haazen.
URL:https://www.dancetribe.be/event/soiree-ouverte-a-lexterieur-2/
LOCATION:Limal\, rue des Jardins 20\, Limal\, 1300\, Belgique
CATEGORIES:Soirées ouvertes
END:VEVENT
END:VCALENDAR