BEGIN:VCALENDAR
VERSION:2.0
PRODID:-//dancetribe.be - ECPv6.15.20//NONSGML v1.0//EN
CALSCALE:GREGORIAN
METHOD:PUBLISH
X-WR-CALNAME:dancetribe.be
X-ORIGINAL-URL:https://www.dancetribe.be
X-WR-CALDESC:Évènements pour dancetribe.be
REFRESH-INTERVAL;VALUE=DURATION:PT1H
X-Robots-Tag:noindex
X-PUBLISHED-TTL:PT1H
BEGIN:VTIMEZONE
TZID:Europe/Paris
BEGIN:DAYLIGHT
TZOFFSETFROM:+0100
TZOFFSETTO:+0200
TZNAME:CEST
DTSTART:20250330T010000
END:DAYLIGHT
BEGIN:STANDARD
TZOFFSETFROM:+0200
TZOFFSETTO:+0100
TZNAME:CET
DTSTART:20251026T010000
END:STANDARD
BEGIN:DAYLIGHT
TZOFFSETFROM:+0100
TZOFFSETTO:+0200
TZNAME:CEST
DTSTART:20260329T010000
END:DAYLIGHT
BEGIN:STANDARD
TZOFFSETFROM:+0200
TZOFFSETTO:+0100
TZNAME:CET
DTSTART:20261025T010000
END:STANDARD
BEGIN:DAYLIGHT
TZOFFSETFROM:+0100
TZOFFSETTO:+0200
TZNAME:CEST
DTSTART:20270328T010000
END:DAYLIGHT
BEGIN:STANDARD
TZOFFSETFROM:+0200
TZOFFSETTO:+0100
TZNAME:CET
DTSTART:20271031T010000
END:STANDARD
END:VTIMEZONE
BEGIN:VEVENT
DTSTART;TZID=Europe/Paris:20260422T193000
DTEND;TZID=Europe/Paris:20260422T220000
DTSTAMP:20260422T020310
CREATED:20260217T134936Z
LAST-MODIFIED:20260217T134936Z
UID:11625-1776886200-1776895200@www.dancetribe.be
SUMMARY:Groupe régulier mercredi
DESCRIPTION:Groupe régulier du mercredi\n			\n			\n				\n				\n				\n				\n			\n				\n				\n				\n				\n				\n				\n				\n				\n				\n				\n				\n			\n			\n				\n				\n				\n				\n			\n				\n				\n				\n				\n				\n				\n				\n				\n				\n				\n				\n			\n			\n				\n				\n				\n				\n				\n				\n				\n				\n				\n				Les groupes réguliers sont le cœur de notre pratique ; on y danse presque chaque semaine au sein d’une même tribu\, pendant environ trois mois\, renouvelables à souhait. Cette continuité permet de beaucoup mieux intégrer les bénéfices de la danse dans notre quotidien\, d’entretenir notre hygiène émotionnelle\, et de rester en mouvement intérieur. \nSur ce chemin\, nous sommes dans une même tribu de personnes en marche\, qui nous offre sécurité et de soutien. Le collectif soutient le travail personnel de chacun\, et vice-versa. Dans le même bateau\, nous nous encourageons à prendre des risques et à grandir\, dans un cadre de confiance. Bienvenue à toi pour apporter ta couleur.\n			\n			\n				\n				\n				\n				\n			\n				\n				\n			\n				\n				\n				\n				\n				\n				\n				\n				\n				\n				\n				\n				\n				\n				\n				\n				\n				Modalités\n			\n				\n				\n				\n				\n				– Pour qui : pour tou(te)s\, quelle que soit l’expérience et la condition physique. Si c’est la première fois que vous venez danser les 5 rythmes\, nous vous invitons à lire ceci. \n– Dates : les mercredi 15\, 22 avril\, les 13\, 20\, 27 mai\, les 10\, 17\, 24 juin 2026 de 19H30 à 22H\, ainsi qu’une soirée ouverte au choix (à Boitsfort ou à LLN). Merci d’arriver à 19H15-20 pour démarrer à temps. \n– Lieu : Ecole maternelle située rue du Collège 2 à 1348 Louvain-La-Neuve. Depuis le parking de la Ferme du Biéreau\, c’est le tout premier bâtiment sur la droite lorsque vous marchez en direction du centre-ville. \n– Prix :  158€ pour 9 séances: les 8 séances mentionnées plus haut + 1 soirée ouverte au choix (valable 3 mois à partir du début du groupe). \nCe prix représente une réduction de 20% par rapport aux soirées ouvertes\, et compense donc près de 2 soirées que vous pourriez éventuellement manquer. Il n’y a pas d’autre compensation possible en cas d’absence de votre part. \nSi vous avez des enfants en garde alternée\, nous avons une solution pour vous (cliquer sur le lien). \nLe payement s’effectue sur place lors du premier cours (ou par virement sur le compte BE26 0635 0474 8629 au plus tard trois jours avant le début du groupe – communication « Groupe du mercredi »). \n– Avec Anne-Mieke Haazen et Michel Wéry en alternance.  \n  \n			\n			\n				\n				\n				\n				\n				\n				\n				\n				\n				\n				\n				\n				\n				\n				\n				\n				\n			\n			\n				\n				\n				\n				\n			\n			\n				\n				\n			\n				\n				\n				\n				\n				\n				\n				\n				\n				\n				\n				\n				\n				\n				\n				\n				\n				\n				Inscription\n			\n				\n				\n				\n				\n				\n	Remarque : JavaScript est requis pour ce contenu.
URL:https://www.dancetribe.be/event/groupe-regulier-mercredi-93/
LOCATION:Louvain-la-Neuve
CATEGORIES:Groupes réguliers
ORGANIZER;CN="Michel W%C3%A9ry":MAILTO:michel@dancetribe.be
END:VEVENT
END:VCALENDAR